BEGIN:VCALENDAR
VERSION:2.0
PRODID:-//Asbury Park Chamber of Commerce - ECPv6.15.18//NONSGML v1.0//EN
CALSCALE:GREGORIAN
METHOD:PUBLISH
X-ORIGINAL-URL:https://asburyparkchamber.com
X-WR-CALDESC:Events for Asbury Park Chamber of Commerce
REFRESH-INTERVAL;VALUE=DURATION:PT1H
X-Robots-Tag:noindex
X-PUBLISHED-TTL:PT1H
BEGIN:VTIMEZONE
TZID:America/New_York
BEGIN:DAYLIGHT
TZOFFSETFROM:-0500
TZOFFSETTO:-0400
TZNAME:EDT
DTSTART:20230312T070000
END:DAYLIGHT
BEGIN:STANDARD
TZOFFSETFROM:-0400
TZOFFSETTO:-0500
TZNAME:EST
DTSTART:20231105T060000
END:STANDARD
BEGIN:DAYLIGHT
TZOFFSETFROM:-0500
TZOFFSETTO:-0400
TZNAME:EDT
DTSTART:20240310T070000
END:DAYLIGHT
BEGIN:STANDARD
TZOFFSETFROM:-0400
TZOFFSETTO:-0500
TZNAME:EST
DTSTART:20241103T060000
END:STANDARD
BEGIN:DAYLIGHT
TZOFFSETFROM:-0500
TZOFFSETTO:-0400
TZNAME:EDT
DTSTART:20250309T070000
END:DAYLIGHT
BEGIN:STANDARD
TZOFFSETFROM:-0400
TZOFFSETTO:-0500
TZNAME:EST
DTSTART:20251102T060000
END:STANDARD
END:VTIMEZONE
BEGIN:VEVENT
DTSTART;TZID=America/New_York:20240204T130000
DTEND;TZID=America/New_York:20240204T130000
DTSTAMP:20260422T215019
CREATED:20240122T164250Z
LAST-MODIFIED:20240122T164250Z
UID:10003351-1707051600-1707051600@asburyparkchamber.com
SUMMARY:Sunday Showcase
DESCRIPTION:SUNDAY SHOWCASE\nThe Stone Pony’s Sunday Showcase series rocks on. This is where it all begins for new bands. The showcase is an opportunity for bands to be considered for bigger Asbury/Pony events and national support slots.\nfeaturing \nVIA CROWE and her band\nSCXTTY\nand a full Sunday Showcase line-up\nTHE BLACKOUTS\nNASKA\nSPEAKEASY\nAUBURN GREY\nWAVE BREAK\nVILLIANS OF NOWHERE\nJAMIE CHESSON\nDoor 1:00\, All Ages Event\nTickets $15. Adv / Dos
URL:https://asburyparkchamber.com/event/sunday-showcase-2/
LOCATION:Stone Pony\, 913 Ocean Ave\, Asbury Park\, 07712
END:VEVENT
BEGIN:VEVENT
DTSTART;TZID=America/New_York:20240204T190000
DTEND;TZID=America/New_York:20240204T220000
DTSTAMP:20260422T215019
CREATED:20240206T163719Z
LAST-MODIFIED:20240510T182154Z
UID:10003416-1707073200-1707084000@asburyparkchamber.com
SUMMARY:Slow Down Sundays with BJ Bied
DESCRIPTION:Join us at Soundbooth every Sunday from 7 – 10 pm and listen to lofi jazz loops by the talented guitarist BJ Bied!
URL:https://asburyparkchamber.com/event/slow-down-sundays-with-bj-bied/2024-02-04/
LOCATION:The Asbury Hotel\, 210 5th Ave\, Asbury Park\, NJ\, 07712\, United States
CATEGORIES:Music
ORGANIZER;CN="The Asbury Hotel":MAILTO:theasburyhotel@stayasburypark.com
END:VEVENT
BEGIN:VEVENT
DTSTART;TZID=America/New_York:20240205T190000
DTEND;TZID=America/New_York:20240205T220000
DTSTAMP:20260422T215019
CREATED:20240206T163807Z
LAST-MODIFIED:20240206T163807Z
UID:10003368-1707159600-1707170400@asburyparkchamber.com
SUMMARY:Music Trivia with Giuseppe
DESCRIPTION:Join Giuseppe at Soundbooth every Monday from  7 – 10 pm for Music Trivia!
URL:https://asburyparkchamber.com/event/music-trivia-with-giuseppe/2024-02-05/
LOCATION:The Asbury Hotel\, 210 5th Ave\, Asbury Park\, NJ\, 07712\, United States
ORGANIZER;CN="The Asbury Hotel":MAILTO:theasburyhotel@stayasburypark.com
END:VEVENT
BEGIN:VEVENT
DTSTART;TZID=America/New_York:20240208T190000
DTEND;TZID=America/New_York:20240208T190000
DTSTAMP:20260422T215019
CREATED:20240122T164625Z
LAST-MODIFIED:20240122T164625Z
UID:10003352-1707418800-1707418800@asburyparkchamber.com
SUMMARY:Medium Linda Shields
DESCRIPTION:Come enjoy an evening with Linda Shields\, The Jersey Shore Medium\, as she connects with those who have crossed over. Linda realized her “gift” at a very early age and tells us that her greatest joy is in being able to be the “voice” of a loved one or friend who has passed and wants to communicate with those they have left behind. This promises to be an evening with many surprises! Doors at 5:30\, show starts at 7. \nPLEASE NOTE: Purchasing a ticket does not guarantee a reading.
URL:https://asburyparkchamber.com/event/medium-linda-shields-7/
LOCATION:Tim McLoone’s Supper Club\, 1200 Ocean Ave\, Asbury Park\, 07712
END:VEVENT
BEGIN:VEVENT
DTSTART;TZID=America/New_York:20240209T190000
DTEND;TZID=America/New_York:20240209T190000
DTSTAMP:20260422T215019
CREATED:20240122T165048Z
LAST-MODIFIED:20240122T165048Z
UID:10003353-1707505200-1707505200@asburyparkchamber.com
SUMMARY:The Parlor Mob
DESCRIPTION:The Parlor Mob \nwith\nChad Sabo\nLittle Hag \n7PM doors\n8PM show
URL:https://asburyparkchamber.com/event/the-parlor-mob/
LOCATION:Stone Pony\, 913 Ocean Ave\, Asbury Park\, 07712
END:VEVENT
BEGIN:VEVENT
DTSTART;TZID=America/New_York:20240209T190000
DTEND;TZID=America/New_York:20240209T190000
DTSTAMP:20260422T215019
CREATED:20240206T163620Z
LAST-MODIFIED:20240206T163620Z
UID:10003464-1707505200-1707505200@asburyparkchamber.com
SUMMARY:The Mountain Jam Band
DESCRIPTION:The Mountain Jam Band \nAllman Brothers Tribute Show \nThe Mountain Jam Band is the tri-state area’s premier Allman Brothers tribute band. Join us for a celebration of the Allman Brothers Music! This show will focus on the early years representing all the seminal Allmans records. Two set show starting early at 8:00pm. \nDoors                   7:00 pm \nShowtime            8:00pm \nPrice:                    20.00 (plus applicable service charges) \n21 and up
URL:https://asburyparkchamber.com/event/the-mountain-jam-band/
LOCATION:Wonder Bar\, 1213 Ocean Ave\, Asbury Park\, 07712
END:VEVENT
BEGIN:VEVENT
DTSTART;TZID=America/New_York:20240209T200000
DTEND;TZID=America/New_York:20240209T200000
DTSTAMP:20260422T215019
CREATED:20240122T165520Z
LAST-MODIFIED:20240122T165520Z
UID:10003354-1707508800-1707508800@asburyparkchamber.com
SUMMARY:Frontiers: Tribute to Journey
DESCRIPTION:FRONTIERS: Tribute to Journey \nDOORS OPEN AT 6:30pm\, SHOW STARTS AT 8PM \nFrontiers\, the world’s number one tribute to Journey. These five talented\, skilled\, renowned NYC area musicians recreate the music of Journey to perfection\, note for note – every nuance\, every iconic riff\, all the feels. Frontiers covers all the greatest hits of Journey\, taking you back to the late 70’s during Journey’s magical inception with Gregg Rolie and Neal Schon\, and to the 80’s with Steve Perry and Jonathan Cain\, when Journey’s timeless\, chart topping hits such as Open Arms\, Separate Ways\, Send Her My Love\, Faithfully\, Stone in Love\, Don’t Stop Believing\, Who’s Crying Now\, Anyway You Want It\, and many others ruled the airwaves. Steve Perry\, the voice of Journey\, tweeted: Hands down\, Frontiers is my favorite tribute to Journey!
URL:https://asburyparkchamber.com/event/frontiers-tribute-to-journey/
LOCATION:Tim McLoone’s Supper Club\, 1200 Ocean Ave\, Asbury Park\, 07712
END:VEVENT
BEGIN:VEVENT
DTSTART;TZID=America/New_York:20240209T210000
DTEND;TZID=America/New_York:20240209T210000
DTSTAMP:20260422T215019
CREATED:20240206T164252Z
LAST-MODIFIED:20240206T164252Z
UID:10003465-1707512400-1707512400@asburyparkchamber.com
SUMMARY:Ghost Gardener\, Lightheaded\, City Vision
DESCRIPTION:Ghost Gardener\, Lightheaded\, City Vision at Low Dive
URL:https://asburyparkchamber.com/event/ghost-gardener-lightheaded-city-vision/
LOCATION:Low Dive\, 1000 Ocean Ave\, Asbury Park
END:VEVENT
BEGIN:VEVENT
DTSTART;TZID=America/New_York:20240209T210000
DTEND;TZID=America/New_York:20240209T210000
DTSTAMP:20260422T215019
CREATED:20240206T165159Z
LAST-MODIFIED:20240206T165159Z
UID:10003466-1707512400-1707512400@asburyparkchamber.com
SUMMARY:Soultron: Ryan Gregg & Des Spinks
DESCRIPTION:Soultron: Ryan Gregg & Des Spinks at The Break
URL:https://asburyparkchamber.com/event/soultron-ryan-gregg-des-spinks/
LOCATION:The Break\, 1000 Ocean Ave\, Asbury Park
END:VEVENT
BEGIN:VEVENT
DTSTART;VALUE=DATE:20240210
DTEND;VALUE=DATE:20240211
DTSTAMP:20260422T215019
CREATED:20240207T164818Z
LAST-MODIFIED:20240207T164818Z
UID:10003484-1707523200-1707609599@asburyparkchamber.com
SUMMARY:Cookman Ave Galentine's Day Boutique Crawl
DESCRIPTION:Head to Cookman Ave for the 2nd Annual Galentine’s Day Boutique Crawl\, February 10th! Prizes\, live music\, specials\, and more (at participating businesses)! \nRaffle Entry Instructions:\n– All participating stores will have a “Boutique Crawl” flyer in their window\n– Stores have donated many different goodies\, so there will be multiple winners!\n– Make a purchase at any of the participating shops and keep your receipt\n– Bring your receipts to Destination Asbury Boutique by 8pm and enter the raffle\n– Each receipt presents gets an additional entry\nWINNERS WILL BE ANNOUNCED LIVE ON INSTAGRAM BY @SHOP_DESTINATIONASBURY
URL:https://asburyparkchamber.com/event/cookman-ave-galentines-day-boutique-crawl/
LOCATION:Cookman Ave\, Cookman Ave\, Asbury Park
END:VEVENT
BEGIN:VEVENT
DTSTART;TZID=America/New_York:20240210T110000
DTEND;TZID=America/New_York:20240210T140000
DTSTAMP:20260422T215019
CREATED:20240117T183354Z
LAST-MODIFIED:20240117T183354Z
UID:10003339-1707562800-1707573600@asburyparkchamber.com
SUMMARY:Galentine's Brunch at The St. Laurent
DESCRIPTION:Be Our Valentine at The St Laurent Social Club! Grab your gal (and guy) friends and celebrate love with us at Galentine’s Brunch 💖 They’ll be serving up delicious Brunch Specials and Galentine’s themed cocktails from Team Heirloom and dancing to the sounds of @dj_chelli all afternoon!\nSaturday\, February 10th\n11am-2pm
URL:https://asburyparkchamber.com/event/galentines-brunch-at-the-st-laurent/
LOCATION:The St. Laurent\, 408 7th Ave\, Asbury Park\, 07712
END:VEVENT
BEGIN:VEVENT
DTSTART;TZID=America/New_York:20240210T120000
DTEND;TZID=America/New_York:20240210T170000
DTSTAMP:20260422T215019
CREATED:20240102T155504Z
LAST-MODIFIED:20240102T155504Z
UID:10003281-1707566400-1707584400@asburyparkchamber.com
SUMMARY:Asbury Park Valentine’s Bazaar
DESCRIPTION:Asbury Park Valentine’s Bazaar 2024 \nSaturday\, February 10\, 2024 | Noon to 5 pm \nShop & Stroll at our Two Locations\nThe Asbury Hotel + Grand Arcade of Convention Hall \nShop incredible local and regional vendors selling goods and gifts hand made with love. Come shop & stroll at both of our pop up locations at The Asbury Hotel and Grand Arcade of Convention Hall! Featuring local vendors\, food & libations\, photo stations\, flower bar\, workshops and more. Bring a date\, family member and friend or celebrate Valentine’s Day with us!
URL:https://asburyparkchamber.com/event/asbury-park-valentines-bazaar/
LOCATION:Convention Hall\, 1300 Ocean Avenue\, Asbury Park\, NJ\, 07712\, United States
END:VEVENT
BEGIN:VEVENT
DTSTART;TZID=America/New_York:20240210T190000
DTEND;TZID=America/New_York:20240210T190000
DTSTAMP:20260422T215019
CREATED:20240102T160052Z
LAST-MODIFIED:20240102T160052Z
UID:10003282-1707591600-1707591600@asburyparkchamber.com
SUMMARY:Matt O’Ree Band
DESCRIPTION:Matt O’Ree Band \nOne set of Zeppelin\, one set of O’Ree-ginals \nMatt and Eryn O’Ree return to the Wonder Bar to heat things up while on their winter touring break. This show is a hybrid of Led Zeppelin and MOB hits in a two-set show. Matt has collaborated with some of the top people in the music business including Bon Jovi\, Bruce\, BB King\, Steve Cropper and more. Come see why in the intimate setting of the Wonder Bar. \nPrice: $20 (plus applicable service charges) \n21 and up
URL:https://asburyparkchamber.com/event/matt-oree-band-2/
LOCATION:Wonder Bar\, 1213 Ocean Ave\, Asbury Park\, 07712
END:VEVENT
BEGIN:VEVENT
DTSTART;TZID=America/New_York:20240210T210000
DTEND;TZID=America/New_York:20240210T210000
DTSTAMP:20260422T215019
CREATED:20240206T165159Z
LAST-MODIFIED:20240206T165159Z
UID:10003467-1707598800-1707598800@asburyparkchamber.com
SUMMARY:Predator Dub Assassins
DESCRIPTION:Predator Dub Assassins at Low Dive
URL:https://asburyparkchamber.com/event/predator-dub-assassins-3/
LOCATION:Low Dive\, 1000 Ocean Ave\, Asbury Park
END:VEVENT
END:VCALENDAR