BEGIN:VCALENDAR
VERSION:2.0
PRODID:-//Asbury Park Chamber of Commerce - ECPv6.15.18//NONSGML v1.0//EN
CALSCALE:GREGORIAN
METHOD:PUBLISH
X-ORIGINAL-URL:https://asburyparkchamber.com
X-WR-CALDESC:Events for Asbury Park Chamber of Commerce
REFRESH-INTERVAL;VALUE=DURATION:PT1H
X-Robots-Tag:noindex
X-PUBLISHED-TTL:PT1H
BEGIN:VTIMEZONE
TZID:America/New_York
BEGIN:DAYLIGHT
TZOFFSETFROM:-0500
TZOFFSETTO:-0400
TZNAME:EDT
DTSTART:20230312T070000
END:DAYLIGHT
BEGIN:STANDARD
TZOFFSETFROM:-0400
TZOFFSETTO:-0500
TZNAME:EST
DTSTART:20231105T060000
END:STANDARD
BEGIN:DAYLIGHT
TZOFFSETFROM:-0500
TZOFFSETTO:-0400
TZNAME:EDT
DTSTART:20240310T070000
END:DAYLIGHT
BEGIN:STANDARD
TZOFFSETFROM:-0400
TZOFFSETTO:-0500
TZNAME:EST
DTSTART:20241103T060000
END:STANDARD
BEGIN:DAYLIGHT
TZOFFSETFROM:-0500
TZOFFSETTO:-0400
TZNAME:EDT
DTSTART:20250309T070000
END:DAYLIGHT
BEGIN:STANDARD
TZOFFSETFROM:-0400
TZOFFSETTO:-0500
TZNAME:EST
DTSTART:20251102T060000
END:STANDARD
END:VTIMEZONE
BEGIN:VEVENT
DTSTART;TZID=America/New_York:20240922T140000
DTEND;TZID=America/New_York:20240922T160000
DTSTAMP:20260425T211313
CREATED:20240904T213810Z
LAST-MODIFIED:20240904T213810Z
UID:10004143-1727013600-1727020800@asburyparkchamber.com
SUMMARY:The Other American
DESCRIPTION:A World Premiere based on a True Story.  Paris 1952. After tangling over politics with an American tourist\, a promising art student spirals into a mental breakdown that derails his life. Thirty years later he discovers why: The tourist was a CIA operative\, and the student an unwitting participant in one of the darkest chapters of America’s history.
URL:https://asburyparkchamber.com/event/the-other-american/2024-09-22/
LOCATION:New Jersey Repertory Company\, 179 Broadway\, Long Branch\, NJ\, 07740\, United States
CATEGORIES:Art & Culture
ATTACH;FMTTYPE=image/png:https://asburyparkchamber.com/wp-content/uploads/2024/08/Copy-of-Copy-of-THE-OTHER-AMERICAN-slider-300-x-300-px.png
ORGANIZER;CN="New Jersey Repertory Company":MAILTO:njrep@njrep.org
END:VEVENT
BEGIN:VEVENT
DTSTART;TZID=America/New_York:20240922T190000
DTEND;TZID=America/New_York:20240922T220000
DTSTAMP:20260425T211313
CREATED:20240206T163719Z
LAST-MODIFIED:20240510T182154Z
UID:10003449-1727031600-1727042400@asburyparkchamber.com
SUMMARY:Slow Down Sundays with BJ Bied
DESCRIPTION:Join us at Soundbooth every Sunday from 7 – 10 pm and listen to lofi jazz loops by the talented guitarist BJ Bied!
URL:https://asburyparkchamber.com/event/slow-down-sundays-with-bj-bied/2024-09-22/
LOCATION:The Asbury Hotel\, 210 5th Ave\, Asbury Park\, NJ\, 07712\, United States
CATEGORIES:Music
ORGANIZER;CN="The Asbury Hotel":MAILTO:theasburyhotel@stayasburypark.com
END:VEVENT
BEGIN:VEVENT
DTSTART;TZID=America/New_York:20240923T190000
DTEND;TZID=America/New_York:20240923T220000
DTSTAMP:20260425T211313
CREATED:20240206T163807Z
LAST-MODIFIED:20240206T163807Z
UID:10003401-1727118000-1727128800@asburyparkchamber.com
SUMMARY:Music Trivia with Giuseppe
DESCRIPTION:Join Giuseppe at Soundbooth every Monday from  7 – 10 pm for Music Trivia!
URL:https://asburyparkchamber.com/event/music-trivia-with-giuseppe/2024-09-23/
LOCATION:The Asbury Hotel\, 210 5th Ave\, Asbury Park\, NJ\, 07712\, United States
ORGANIZER;CN="The Asbury Hotel":MAILTO:theasburyhotel@stayasburypark.com
END:VEVENT
BEGIN:VEVENT
DTSTART;TZID=America/New_York:20240924T190000
DTEND;TZID=America/New_York:20240924T220000
DTSTAMP:20260425T211313
CREATED:20240815T170842Z
LAST-MODIFIED:20240815T170842Z
UID:10004081-1727204400-1727215200@asburyparkchamber.com
SUMMARY:PIANO PARTY WITH BOB EGAN
DESCRIPTION:Join us every Tuesday from 7 pm – 10 pm in Soundbooth and listen to Bob Egan play the piano while guests sing along!
URL:https://asburyparkchamber.com/event/piano-party-with-bob-egan-3/
LOCATION:The Asbury Hotel\, 210 5th Ave\, Asbury Park\, NJ\, 07712\, United States
END:VEVENT
BEGIN:VEVENT
DTSTART;TZID=America/New_York:20240925T180000
DTEND;TZID=America/New_York:20240925T220000
DTSTAMP:20260425T211313
CREATED:20240815T170842Z
LAST-MODIFIED:20240815T170842Z
UID:10004082-1727287200-1727301600@asburyparkchamber.com
SUMMARY:SANDY MACK JAM BAND
DESCRIPTION:Join us at Soundbooth Every Wednesday from 6-10PM to enjoy a Sand Mack Jam Band! This event is free and open to the public We hope to see you there!
URL:https://asburyparkchamber.com/event/sandy-mack-jam-band-4/
LOCATION:The Asbury Hotel\, 210 5th Ave\, Asbury Park\, NJ\, 07712\, United States
END:VEVENT
BEGIN:VEVENT
DTSTART;VALUE=DATE:20240926
DTEND;VALUE=DATE:20241004
DTSTAMP:20260425T211313
CREATED:20240214T174151Z
LAST-MODIFIED:20240214T174151Z
UID:10003493-1727308800-1727999999@asburyparkchamber.com
SUMMARY:One * Show - A Solo Theater Festival
DESCRIPTION:One * Show\nA solo theater festival \nSept 26 – Oct 3 \nThe Showroom  \n707 Cookman Ave\, Asbury Park\, NJ 07712 \nDive into the raw authenticity of our Solo Theater Festival\, where LGBTQ+ storytellers will fearlessly unveil their unique shows. This special event will showcase the unapologetic narratives of renegades and rebels\, the tender beauty of personal stories and the irreverent wit of humorists recounting life under the queer umbrella. Brace yourself for the power of these voices to soulignite\, provoke and make you LOL.
URL:https://asburyparkchamber.com/event/one-show-a-solo-theater-festival/
LOCATION:The Showroom\, 707 Cookman Avenue\, Asbury Park\, 07712
END:VEVENT
BEGIN:VEVENT
DTSTART;TZID=America/New_York:20240926T193000
DTEND;TZID=America/New_York:20240926T213000
DTSTAMP:20260425T211313
CREATED:20240819T181417Z
LAST-MODIFIED:20240819T181417Z
UID:10004132-1727379000-1727386200@asburyparkchamber.com
SUMMARY:The Other American
DESCRIPTION:A World Premiere based on a True Story.  Paris 1952. After tangling over politics with an American tourist\, a promising art student spirals into a mental breakdown that derails his life. Thirty years later he discovers why: The tourist was a CIA operative\, and the student an unwitting participant in one of the darkest chapters of America’s history.
URL:https://asburyparkchamber.com/event/the-other-american/2024-09-26/
LOCATION:New Jersey Repertory Company\, 179 Broadway\, Long Branch\, NJ\, 07740\, United States
CATEGORIES:Art & Culture
ATTACH;FMTTYPE=image/png:https://asburyparkchamber.com/wp-content/uploads/2024/08/Copy-of-Copy-of-THE-OTHER-AMERICAN-slider-300-x-300-px.png
ORGANIZER;CN="New Jersey Repertory Company":MAILTO:njrep@njrep.org
END:VEVENT
BEGIN:VEVENT
DTSTART;TZID=America/New_York:20240927T140000
DTEND;TZID=America/New_York:20240927T160000
DTSTAMP:20260425T211313
CREATED:20240904T213810Z
LAST-MODIFIED:20240904T213810Z
UID:10004144-1727445600-1727452800@asburyparkchamber.com
SUMMARY:The Other American
DESCRIPTION:A World Premiere based on a True Story.  Paris 1952. After tangling over politics with an American tourist\, a promising art student spirals into a mental breakdown that derails his life. Thirty years later he discovers why: The tourist was a CIA operative\, and the student an unwitting participant in one of the darkest chapters of America’s history.
URL:https://asburyparkchamber.com/event/the-other-american/2024-09-27/
LOCATION:New Jersey Repertory Company\, 179 Broadway\, Long Branch\, NJ\, 07740\, United States
CATEGORIES:Art & Culture
ATTACH;FMTTYPE=image/png:https://asburyparkchamber.com/wp-content/uploads/2024/08/Copy-of-Copy-of-THE-OTHER-AMERICAN-slider-300-x-300-px.png
ORGANIZER;CN="New Jersey Repertory Company":MAILTO:njrep@njrep.org
END:VEVENT
BEGIN:VEVENT
DTSTART;TZID=America/New_York:20240927T190000
DTEND;TZID=America/New_York:20240927T190000
DTSTAMP:20260425T211313
CREATED:20240429T144238Z
LAST-MODIFIED:20240429T144238Z
UID:10003738-1727463600-1727463600@asburyparkchamber.com
SUMMARY:Bonfires on the Beach
DESCRIPTION:Bonfires on the Asbury Park Beach 2024\nSeptember\nFridays at 7PM \nSeptember 6 @ 5th Avenue\nSeptember 13 @ 1st Avenue\nSeptember 20 @ 5th Avenue\nSeptember 27 @ 5th Avenue
URL:https://asburyparkchamber.com/event/bonfires-on-the-beach-4/2024-09-27/
LOCATION:Asbury Park Boardwalk & Beach
END:VEVENT
BEGIN:VEVENT
DTSTART;TZID=America/New_York:20240927T193000
DTEND;TZID=America/New_York:20240927T213000
DTSTAMP:20260425T211313
CREATED:20240819T181417Z
LAST-MODIFIED:20240819T181417Z
UID:10004133-1727465400-1727472600@asburyparkchamber.com
SUMMARY:The Other American
DESCRIPTION:A World Premiere based on a True Story.  Paris 1952. After tangling over politics with an American tourist\, a promising art student spirals into a mental breakdown that derails his life. Thirty years later he discovers why: The tourist was a CIA operative\, and the student an unwitting participant in one of the darkest chapters of America’s history.
URL:https://asburyparkchamber.com/event/the-other-american/2024-09-27/
LOCATION:New Jersey Repertory Company\, 179 Broadway\, Long Branch\, NJ\, 07740\, United States
CATEGORIES:Art & Culture
ATTACH;FMTTYPE=image/png:https://asburyparkchamber.com/wp-content/uploads/2024/08/Copy-of-Copy-of-THE-OTHER-AMERICAN-slider-300-x-300-px.png
ORGANIZER;CN="New Jersey Repertory Company":MAILTO:njrep@njrep.org
END:VEVENT
BEGIN:VEVENT
DTSTART;TZID=America/New_York:20240928T080000
DTEND;TZID=America/New_York:20240928T140000
DTSTAMP:20260425T211313
CREATED:20240910T183644Z
LAST-MODIFIED:20240910T183644Z
UID:10004166-1727510400-1727532000@asburyparkchamber.com
SUMMARY:Yoga with Love - Open House
DESCRIPTION:Open House\nSaturday\, September\, 28th\, 2024\n8:00a – 2:00p \n*Free Classes * Raffle  *Special discounts – 1 day only! \nJoin our community as we celebrate the\n6th Anniversary of Yoga with Love\nYoga with Love is a boutique Yoga studio that specializes in serving adults 50 and older. Our community believes in yoga for healthy aging\, wisdom and growth through a gentle/moderate practice.\nTo reserve your space for our complementary classes\, (1 class per student ) visit:  https://yogawithlovenj.com/events-and-trainings/ OR use QR code above\nSchedule\n8:30-9:15 am Mindful Flow with Madi\n9:45 – 10:30 am Beginner with Nancy\n11:00 -11:45 am Yoga with Light Weights with Andrea\n12:15 – 1:00 pm Gentle Yoga with Jill\n1:15 – 2:00 pm Reiki and Sound Bath with Claudine & Amy \nYoga with Love\n417 Euclid Ave.\, Loch Arbour\, NJ 07711\n848-777-2942\, www.yogawithlovenj.com
URL:https://asburyparkchamber.com/event/yoga-with-love-open-house/
LOCATION:Yoga With Love\, 417 Euclid Ave\, Loch Arbour\, NJ\, 07711\, United States
CATEGORIES:Music
ATTACH;FMTTYPE=image/jpeg:https://asburyparkchamber.com/wp-content/uploads/2024/09/Happy-Anniversary-Images-4.jpg
ORGANIZER;CN="Claudine Fenniman":MAILTO:claudine@yogawithlovenj.com
END:VEVENT
BEGIN:VEVENT
DTSTART;TZID=America/New_York:20240928T120000
DTEND;TZID=America/New_York:20240929T170000
DTSTAMP:20260425T211313
CREATED:20240820T182624Z
LAST-MODIFIED:20240820T182624Z
UID:10004152-1727524800-1727629200@asburyparkchamber.com
SUMMARY:ASBURY PARK FALL BAZAAR 2024
DESCRIPTION:Visit our Two Pop Up Locations:\nAsbury Park Convention Hall on Saturday & Sunday\nThe Asbury Hotel on Sunday\nCelebrate local makers\, music and art – and local summer! – at the Asbury Park Fall Bazaar happening in two fabulous locations in Asbury Park: the Grand Arcade at historic Convention Hall on Saturday & Sunday\, September 28 & 29 and The Asbury Hotel\, Sunday\, September 29\, from noon to 5 pm. Asbury Park Fall Bazaar is indoors\, free for all ages\, and pet friendly. \nAsbury Park Fall Bazaar will feature shopping from a curated market of makers from the Jersey Shore & beyond\, kids activities\, photo opps\, music\, workshops\, and delicious food\, libations and entertainment at Asbury Oyster Bar\, Seahorse\, and Asbury Hotel.
URL:https://asburyparkchamber.com/event/asbury-park-fall-bazaar-2024/2024-09-28/
LOCATION:The Grand Arcade of Asbury Park Convention Hall
END:VEVENT
BEGIN:VEVENT
DTSTART;TZID=America/New_York:20240928T140000
DTEND;TZID=America/New_York:20240928T160000
DTSTAMP:20260425T211313
CREATED:20240904T213810Z
LAST-MODIFIED:20240904T213810Z
UID:10004145-1727532000-1727539200@asburyparkchamber.com
SUMMARY:The Other American
DESCRIPTION:A World Premiere based on a True Story.  Paris 1952. After tangling over politics with an American tourist\, a promising art student spirals into a mental breakdown that derails his life. Thirty years later he discovers why: The tourist was a CIA operative\, and the student an unwitting participant in one of the darkest chapters of America’s history.
URL:https://asburyparkchamber.com/event/the-other-american/2024-09-28/
LOCATION:New Jersey Repertory Company\, 179 Broadway\, Long Branch\, NJ\, 07740\, United States
CATEGORIES:Art & Culture
ATTACH;FMTTYPE=image/png:https://asburyparkchamber.com/wp-content/uploads/2024/08/Copy-of-Copy-of-THE-OTHER-AMERICAN-slider-300-x-300-px.png
ORGANIZER;CN="New Jersey Repertory Company":MAILTO:njrep@njrep.org
END:VEVENT
BEGIN:VEVENT
DTSTART;TZID=America/New_York:20240928T193000
DTEND;TZID=America/New_York:20240928T213000
DTSTAMP:20260425T211313
CREATED:20240819T181417Z
LAST-MODIFIED:20240819T181417Z
UID:10004134-1727551800-1727559000@asburyparkchamber.com
SUMMARY:The Other American
DESCRIPTION:A World Premiere based on a True Story.  Paris 1952. After tangling over politics with an American tourist\, a promising art student spirals into a mental breakdown that derails his life. Thirty years later he discovers why: The tourist was a CIA operative\, and the student an unwitting participant in one of the darkest chapters of America’s history.
URL:https://asburyparkchamber.com/event/the-other-american/2024-09-28/
LOCATION:New Jersey Repertory Company\, 179 Broadway\, Long Branch\, NJ\, 07740\, United States
CATEGORIES:Art & Culture
ATTACH;FMTTYPE=image/png:https://asburyparkchamber.com/wp-content/uploads/2024/08/Copy-of-Copy-of-THE-OTHER-AMERICAN-slider-300-x-300-px.png
ORGANIZER;CN="New Jersey Repertory Company":MAILTO:njrep@njrep.org
END:VEVENT
END:VCALENDAR