BEGIN:VCALENDAR
VERSION:2.0
PRODID:-//Asbury Park Chamber of Commerce - ECPv6.15.18//NONSGML v1.0//EN
CALSCALE:GREGORIAN
METHOD:PUBLISH
X-WR-CALNAME:Asbury Park Chamber of Commerce
X-ORIGINAL-URL:https://asburyparkchamber.com
X-WR-CALDESC:Events for Asbury Park Chamber of Commerce
REFRESH-INTERVAL;VALUE=DURATION:PT1H
X-Robots-Tag:noindex
X-PUBLISHED-TTL:PT1H
BEGIN:VTIMEZONE
TZID:America/New_York
BEGIN:DAYLIGHT
TZOFFSETFROM:-0500
TZOFFSETTO:-0400
TZNAME:EDT
DTSTART:20240310T070000
END:DAYLIGHT
BEGIN:STANDARD
TZOFFSETFROM:-0400
TZOFFSETTO:-0500
TZNAME:EST
DTSTART:20241103T060000
END:STANDARD
BEGIN:DAYLIGHT
TZOFFSETFROM:-0500
TZOFFSETTO:-0400
TZNAME:EDT
DTSTART:20250309T070000
END:DAYLIGHT
BEGIN:STANDARD
TZOFFSETFROM:-0400
TZOFFSETTO:-0500
TZNAME:EST
DTSTART:20251102T060000
END:STANDARD
BEGIN:DAYLIGHT
TZOFFSETFROM:-0500
TZOFFSETTO:-0400
TZNAME:EDT
DTSTART:20260308T070000
END:DAYLIGHT
BEGIN:STANDARD
TZOFFSETFROM:-0400
TZOFFSETTO:-0500
TZNAME:EST
DTSTART:20261101T060000
END:STANDARD
END:VTIMEZONE
BEGIN:VEVENT
DTSTART;TZID=America/New_York:20251012T120000
DTEND;TZID=America/New_York:20251012T170000
DTSTAMP:20260421T182425
CREATED:20250819T140931Z
LAST-MODIFIED:20250819T140931Z
UID:10005806-1760270400-1760288400@asburyparkchamber.com
SUMMARY:Asbury Park Vintage Market - Stone Pony Summer Stage
DESCRIPTION:Coming this fall! The @apvintagemarket takes over the Summer Stage on October 12 from 12–5. Shop more than 50 local and visiting vendors featuring vintage clothing from the 1950s to early 2000s\, vinyl records\, home decor\, jewelry\, and more.\nFree admittance!\nThe market is presented by the creators of the Charleston Vintage Market.
URL:https://asburyparkchamber.com/event/asbury-park-vintage-market-stone-pony-summer-stage/
LOCATION:The Stone Pony Summer Stage\, 913 Ocean Ave\, Asbury Park\, NJ\, 07702\, United States
CATEGORIES:Family
ATTACH;FMTTYPE=image/jpeg:https://asburyparkchamber.com/wp-content/uploads/2025/08/IMG_6275.jpg
END:VEVENT
BEGIN:VEVENT
DTSTART;TZID=America/New_York:20251012T190000
DTEND;TZID=America/New_York:20251012T203000
DTSTAMP:20260421T182425
CREATED:20250813T130332Z
LAST-MODIFIED:20250813T130704Z
UID:10005772-1760295600-1760301000@asburyparkchamber.com
SUMMARY:The Original Asbury Park Ghost Tours
DESCRIPTION:Paranormal Books & Curiosities is a boutique destination located in the heart of historic downtown Asbury Park. Located at 621 Cookman Avenue\, the shop offers a one-of-a-kind blend of paranormal literature\, spiritual supplies\, curious artifacts\, and immersive supernatural experiences. It’s a place where history\, mystery\, and magic converge\, welcoming skeptics and believers alike. \nIn addition to its thoughtfully curated selection of books\, the shop is home to two of Asbury Park’s most unique attractions: The Paranormal Museum and the Original Asbury Park Ghost Tours. \nThe Paranormal Museum features an eerie and intriguing collection that includes haunted dolls\, vintage Ouija boards\, cursed objects\, and rotating exhibits such as “Famous Haunts of the USA.” Visitors can explore these displays through private\, docent-led tours designed to educate\, entertain\, and unsettle. The museum offers a rare opportunity to engage directly with the unexplained and the uncanny. \nThe Original Asbury Park Ghost Tours—created by founder and local paranormal expert Kathy Kelly—invite guests to walk the haunted streets and discover the city’s darker side. These tours weave together historical events\, local legends\, and first-hand accounts of ghostly encounters to reveal a side of Asbury Park rarely seen in the daylight. \nWhether you’re fascinated by folklore\, intrigued by the supernatural\, or simply looking for a memorable experience\, Paranormal Books & Curiosities promises an unforgettable journey into the unknown.
URL:https://asburyparkchamber.com/event/the-original-asbury-park-ghost-tours/2025-10-12/
LOCATION:The Paranormal Museum\, 621 Cookman Ave\, Asbury Park\, N\, 07712\, United States
ATTACH;FMTTYPE=image/png:https://asburyparkchamber.com/wp-content/uploads/2025/08/Screenshot-2025-08-12-at-5.14.26-PM-e1755090411879.png
ORGANIZER;CN="Paranormal Books and Curiosities":MAILTO:info@paranormalbooksnj.com
END:VEVENT
BEGIN:VEVENT
DTSTART;TZID=America/New_York:20251013T080000
DTEND;TZID=America/New_York:20251013T170000
DTSTAMP:20260421T182425
CREATED:20251003T184848Z
LAST-MODIFIED:20251003T185408Z
UID:10006168-1760342400-1760374800@asburyparkchamber.com
SUMMARY:Warmest Wishes Coat Drive ❄️
DESCRIPTION:Help keep local kids warm!\nDonate new youth coats (XS–XL) to the Warmest Wishes Coat Drive by 10/30. \nDrop off at Asbury Park City Hall\, 2nd Floor\, City Manager’s Office\, Mon–Fri 8:30am–4:30pm.\nQuestions? Please call 732-502-5753.
URL:https://asburyparkchamber.com/event/warmest-wishes-coat-drive-%e2%9d%84%ef%b8%8f/2025-10-13/
LOCATION:City Hall Parking Lot at 1 Municipal Plaza
CATEGORIES:Family,Fundraiser
ATTACH;FMTTYPE=image/jpeg:https://asburyparkchamber.com/wp-content/uploads/2025/10/Coat-Drive-flyer-2025-v2.jpeg
END:VEVENT
BEGIN:VEVENT
DTSTART;TZID=America/New_York:20251013T080000
DTEND;TZID=America/New_York:20251013T170000
DTSTAMP:20260421T182425
CREATED:20251010T155602Z
LAST-MODIFIED:20251010T155602Z
UID:10006278-1760342400-1760374800@asburyparkchamber.com
SUMMARY:HAPPY COLUMBUS & INDIGENOUS PEOPLES DAY! 🍁
DESCRIPTION:In observance of Columbus Day and Indigenous Peoples Day\, City Hall and the Asbury Park Public Library will be closed on Monday\, October 13\, 2025. In addition\, the City Hall parking lot will be closed for maintenance\, and alternate side parking regulations will be suspended.
URL:https://asburyparkchamber.com/event/happy-columbus-indigenous-peoples-day-%f0%9f%8d%81/
LOCATION:City Hall Parking Lot at 1 Municipal Plaza
CATEGORIES:Family
ATTACH;FMTTYPE=image/jpeg:https://asburyparkchamber.com/wp-content/uploads/2025/10/561339318_1248962570592161_4071748131778775377_n.jpg
END:VEVENT
BEGIN:VEVENT
DTSTART;TZID=America/New_York:20251013T200000
DTEND;TZID=America/New_York:20251013T230000
DTSTAMP:20260421T182425
CREATED:20251001T140834Z
LAST-MODIFIED:20251001T140834Z
UID:10005922-1760385600-1760396400@asburyparkchamber.com
SUMMARY:Happy Mondays Sophie Swanson\, Madhavi Devi\, Spring Ahead Fall Apart at the Wonder Bar
DESCRIPTION:HAPPY MONDAYS\nHappy Mondays return to the Wonder Bar with free live music by local and national artists\, plus food & drink specials.\nSophie Swanson\, Madhavi Devi\, Spring Ahead Fall Apart \nFREE EVENT!\nDoors at 8 pm\n21+ admitted
URL:https://asburyparkchamber.com/event/happy-mondays-sophie-swanson-madhavi-devi-spring-ahead-fall-apart-at-the-wonder-bar/
LOCATION:Wonder Bar\, 1213 Ocean Ave\, Asbury Park\, 07712
CATEGORIES:Music
ATTACH;FMTTYPE=image/png:https://asburyparkchamber.com/wp-content/uploads/2025/10/Wonder-Bar-Happy-Mondays-1.png
END:VEVENT
BEGIN:VEVENT
DTSTART;TZID=America/New_York:20251014T080000
DTEND;TZID=America/New_York:20251014T160000
DTSTAMP:20260421T182425
CREATED:20251003T184849Z
LAST-MODIFIED:20251003T185509Z
UID:10006111-1760428800-1760457600@asburyparkchamber.com
SUMMARY:Volunteers Needed for 2025 Asbury Park Trunk or Treat!! 🎃👻
DESCRIPTION:The Asbury Park Recreation Department is looking for volunteers to host decorated trunks at our annual Trunk or Treat on Friday\, October 31\, from 4:30–6pm at City Hall. 🎃\nHelp create a fun and safe Halloween for local kids! \nTo register your trunk\, email recreation@asburypark.gov or call 732-502-5759.
URL:https://asburyparkchamber.com/event/volunteers-needed-for-2025-asbury-park-trunk-or-treat-%f0%9f%8e%83%f0%9f%91%bb/2025-10-14/
LOCATION:City Hall Parking Lot at 1 Municipal Plaza
CATEGORIES:Family
ATTACH;FMTTYPE=image/png:https://asburyparkchamber.com/wp-content/uploads/2025/10/2025-Trunk-or-Treat-flyer.png
END:VEVENT
BEGIN:VEVENT
DTSTART;TZID=America/New_York:20251014T170000
DTEND;TZID=America/New_York:20251014T200000
DTSTAMP:20260421T182425
CREATED:20251010T160226Z
LAST-MODIFIED:20251010T160226Z
UID:10006279-1760461200-1760472000@asburyparkchamber.com
SUMMARY:MOVIES BY THE SEA 🎥 🍿
DESCRIPTION:Join the City of Asbury Park for Movies by the Sea featuring Barbie on Tuesday\, October 14\, 2025\, at 5pm at The Showroom Cinema\, 707 Cookman Avenue. \nAdmission is FREE and includes popcorn🍿and a drink. \nLimited tickets available—call 732-502-5753. \nAsbury Park residents only; minors must be accompanied by an adult.
URL:https://asburyparkchamber.com/event/movies-by-the-sea-%f0%9f%8e%a5-%f0%9f%8d%bf/
LOCATION:Showroom Cinema\, 707 Cookman ave\, Asbury Park\, NJ
CATEGORIES:Family
ATTACH;FMTTYPE=image/png:https://asburyparkchamber.com/wp-content/uploads/2025/10/Movies-by-the-Sea-October-2025-_1_.png
END:VEVENT
BEGIN:VEVENT
DTSTART;TZID=America/New_York:20251014T190000
DTEND;TZID=America/New_York:20251014T203000
DTSTAMP:20260421T182425
CREATED:20250813T130332Z
LAST-MODIFIED:20250813T130704Z
UID:10005773-1760468400-1760473800@asburyparkchamber.com
SUMMARY:The Original Asbury Park Ghost Tours
DESCRIPTION:Paranormal Books & Curiosities is a boutique destination located in the heart of historic downtown Asbury Park. Located at 621 Cookman Avenue\, the shop offers a one-of-a-kind blend of paranormal literature\, spiritual supplies\, curious artifacts\, and immersive supernatural experiences. It’s a place where history\, mystery\, and magic converge\, welcoming skeptics and believers alike. \nIn addition to its thoughtfully curated selection of books\, the shop is home to two of Asbury Park’s most unique attractions: The Paranormal Museum and the Original Asbury Park Ghost Tours. \nThe Paranormal Museum features an eerie and intriguing collection that includes haunted dolls\, vintage Ouija boards\, cursed objects\, and rotating exhibits such as “Famous Haunts of the USA.” Visitors can explore these displays through private\, docent-led tours designed to educate\, entertain\, and unsettle. The museum offers a rare opportunity to engage directly with the unexplained and the uncanny. \nThe Original Asbury Park Ghost Tours—created by founder and local paranormal expert Kathy Kelly—invite guests to walk the haunted streets and discover the city’s darker side. These tours weave together historical events\, local legends\, and first-hand accounts of ghostly encounters to reveal a side of Asbury Park rarely seen in the daylight. \nWhether you’re fascinated by folklore\, intrigued by the supernatural\, or simply looking for a memorable experience\, Paranormal Books & Curiosities promises an unforgettable journey into the unknown.
URL:https://asburyparkchamber.com/event/the-original-asbury-park-ghost-tours/2025-10-14/
LOCATION:The Paranormal Museum\, 621 Cookman Ave\, Asbury Park\, N\, 07712\, United States
ATTACH;FMTTYPE=image/png:https://asburyparkchamber.com/wp-content/uploads/2025/08/Screenshot-2025-08-12-at-5.14.26-PM-e1755090411879.png
ORGANIZER;CN="Paranormal Books and Curiosities":MAILTO:info@paranormalbooksnj.com
END:VEVENT
BEGIN:VEVENT
DTSTART;TZID=America/New_York:20251015T180000
DTEND;TZID=America/New_York:20251015T200000
DTSTAMP:20260421T182425
CREATED:20250925T182005Z
LAST-MODIFIED:20250925T182212Z
UID:10005887-1760551200-1760558400@asburyparkchamber.com
SUMMARY:Business Made Social - APCC Networking Event at the Asbury Park Brewery 🍺
DESCRIPTION:It’s Oktoberfest season! 🍻 🎃 \nWill you be joining us for our October Business Made Social? We’ll be at Asbury Park Brewery on October 15th from 6pm – 8pm. \n$15 Members / $20 Non-Members \nHope to see you there!
URL:https://asburyparkchamber.com/event/business-made-social-apcc-networking-event-at-the-asbury-park-brewery-%f0%9f%8d%ba/
LOCATION:Asbury Park Brewery\, 614 Cookman Ave.\, Suite 1\, Asbury Park\, 07712
CATEGORIES:Networking
ATTACH;FMTTYPE=image/jpeg:https://asburyparkchamber.com/wp-content/uploads/2025/09/550872557_1240442351451923_7991051001097983245_n.jpg
ORGANIZER;CN="Asbury Park Chamber":MAILTO:info@asburyparkchamber.com
END:VEVENT
BEGIN:VEVENT
DTSTART;TZID=America/New_York:20251015T200000
DTEND;TZID=America/New_York:20251015T223000
DTSTAMP:20260421T182425
CREATED:20251001T144216Z
LAST-MODIFIED:20251001T144314Z
UID:10005927-1760558400-1760567400@asburyparkchamber.com
SUMMARY:Free Music at Palmetto!
DESCRIPTION:Palmetto has free music every Wednesday\, Friday and Saturday in October! \nWednesday shows 8:00PM\nFriday shows 9:00PM\nSaturday shows 10:00PM \nSchedule below:\n10/1/25 – Joe P\n10/3/25 – Make America House Again\n10/4/25 – DJ Carly Spins\n10/8/25 – Destinee Monroe & Karlee Bloom\n10/10/25 – Chemical Wave with Mike Z & Ted Wrigley\n10/11/25 – Salsa Fiesta with Xol Azul\n10/15/25 – Destinee Monroe & Karlee Bloom\n10/17/25 – Flea Market Funk with PRESTIGE\n10/18/25 – Describe & the Swagmatics\n10/22/25 – Steven & Johnny (from Burlap to Cashmere)\n10/24/25 – KRUSH\n10/25/25 – Boardwalk Rewind with Mick Hale and Drew Melodrama\n10/29/25 – Destinee Monroe & Karlee Bloom\n10/31/25 – PepeLoco\, Miss Cookie & Lova Hames
URL:https://asburyparkchamber.com/event/free-music-at-palmetto/2025-10-15/
LOCATION:Palmetto Southern Kitchen + Bar\, 1000 Ocean Avenue\, Asbury Park\, 07712
CATEGORIES:Music
ATTACH;FMTTYPE=image/jpeg:https://asburyparkchamber.com/wp-content/uploads/2025/10/Palmetto-e1759330571300.jpeg
END:VEVENT
BEGIN:VEVENT
DTSTART;TZID=America/New_York:20251016T080000
DTEND;TZID=America/New_York:20251016T170000
DTSTAMP:20260421T182425
CREATED:20251003T184848Z
LAST-MODIFIED:20251003T185408Z
UID:10006169-1760601600-1760634000@asburyparkchamber.com
SUMMARY:Warmest Wishes Coat Drive ❄️
DESCRIPTION:Help keep local kids warm!\nDonate new youth coats (XS–XL) to the Warmest Wishes Coat Drive by 10/30. \nDrop off at Asbury Park City Hall\, 2nd Floor\, City Manager’s Office\, Mon–Fri 8:30am–4:30pm.\nQuestions? Please call 732-502-5753.
URL:https://asburyparkchamber.com/event/warmest-wishes-coat-drive-%e2%9d%84%ef%b8%8f/2025-10-16/
LOCATION:City Hall Parking Lot at 1 Municipal Plaza
CATEGORIES:Family,Fundraiser
ATTACH;FMTTYPE=image/jpeg:https://asburyparkchamber.com/wp-content/uploads/2025/10/Coat-Drive-flyer-2025-v2.jpeg
END:VEVENT
BEGIN:VEVENT
DTSTART;TZID=America/New_York:20251016T190000
DTEND;TZID=America/New_York:20251016T203000
DTSTAMP:20260421T182425
CREATED:20250813T130332Z
LAST-MODIFIED:20250813T130704Z
UID:10005774-1760641200-1760646600@asburyparkchamber.com
SUMMARY:The Original Asbury Park Ghost Tours
DESCRIPTION:Paranormal Books & Curiosities is a boutique destination located in the heart of historic downtown Asbury Park. Located at 621 Cookman Avenue\, the shop offers a one-of-a-kind blend of paranormal literature\, spiritual supplies\, curious artifacts\, and immersive supernatural experiences. It’s a place where history\, mystery\, and magic converge\, welcoming skeptics and believers alike. \nIn addition to its thoughtfully curated selection of books\, the shop is home to two of Asbury Park’s most unique attractions: The Paranormal Museum and the Original Asbury Park Ghost Tours. \nThe Paranormal Museum features an eerie and intriguing collection that includes haunted dolls\, vintage Ouija boards\, cursed objects\, and rotating exhibits such as “Famous Haunts of the USA.” Visitors can explore these displays through private\, docent-led tours designed to educate\, entertain\, and unsettle. The museum offers a rare opportunity to engage directly with the unexplained and the uncanny. \nThe Original Asbury Park Ghost Tours—created by founder and local paranormal expert Kathy Kelly—invite guests to walk the haunted streets and discover the city’s darker side. These tours weave together historical events\, local legends\, and first-hand accounts of ghostly encounters to reveal a side of Asbury Park rarely seen in the daylight. \nWhether you’re fascinated by folklore\, intrigued by the supernatural\, or simply looking for a memorable experience\, Paranormal Books & Curiosities promises an unforgettable journey into the unknown.
URL:https://asburyparkchamber.com/event/the-original-asbury-park-ghost-tours/2025-10-16/
LOCATION:The Paranormal Museum\, 621 Cookman Ave\, Asbury Park\, N\, 07712\, United States
ATTACH;FMTTYPE=image/png:https://asburyparkchamber.com/wp-content/uploads/2025/08/Screenshot-2025-08-12-at-5.14.26-PM-e1755090411879.png
ORGANIZER;CN="Paranormal Books and Curiosities":MAILTO:info@paranormalbooksnj.com
END:VEVENT
BEGIN:VEVENT
DTSTART;TZID=America/New_York:20251017T190000
DTEND;TZID=America/New_York:20251017T230000
DTSTAMP:20260421T182425
CREATED:20250925T163706Z
LAST-MODIFIED:20250925T163706Z
UID:10005880-1760727600-1760742000@asburyparkchamber.com
SUMMARY:Captain Jack – The Billy Joel Tribute at the Stone Pony
DESCRIPTION:Captain Jack is an amazing Billy Joel Tribute Band consisting of some of the tri-state areas top musicians. The band thrives on every performance bringing the “live concert experience” and arrangements of timeless hits and fan favorites which have captivated countless fans at Billy Joel Concerts. ​Every Captain Jack show is packed with the same energy\, passion and fan Interaction of a Billy Joel Concert. Join us for a night of singing and dancing to live Billy Joel music at the Pony!\n​Note: Every event for The Captain Jack Band is a testament to Mr. Joel….They are fans\, love what they do\, which shines thru every time they take the stage. \nSpecial Guest: Starboard to Sunset opens at 7:30. \nDoor 7:00 Show 7:30 to 11:30
URL:https://asburyparkchamber.com/event/captain-jack-the-billy-joel-tribute-at-the-stone-pony/
LOCATION:The Stone Pony
CATEGORIES:Music
ATTACH;FMTTYPE=image/jpeg:https://asburyparkchamber.com/wp-content/uploads/2025/09/captain-jack-full-band-on-Piano.jpg
END:VEVENT
BEGIN:VEVENT
DTSTART;TZID=America/New_York:20251017T190000
DTEND;TZID=America/New_York:20251017T230000
DTSTAMP:20260421T182425
CREATED:20251014T161054Z
LAST-MODIFIED:20251014T161054Z
UID:10006281-1760727600-1760742000@asburyparkchamber.com
SUMMARY:The Vibrotones Verbatim\, Fire in the Annex at the Wonder Bar
DESCRIPTION:The Vibrotones\nwith Verbatim and Fire in the Annex \nNew school Rock’N’Roll fueled by fuzz\, groove\, and four-part harmonies\, The Vibrotones deliver a genre-defying sonic punch that turns every stage into an electric storm of sweat and vibey soul!\nLed by Jack Keelan (guitar\, vocals)\, with Jack Hamilton (bass\, vocals)\, Matt Testa (organ\, vocals)\, and Jeramy Orienza (drums\, vocals)\, this powerhouse quartet pulls from a wide spectrum of influences — the raw thunder of The Who and Soundgarden\, the pure rock swagger of The Allman Brothers and Doobies\, with the mind-bending textures of Pink Floyd and King Gizzard & The Lizard Wizard. The Big V always delivers a great live show! \n21 + Admitted \nDoors 7:00pm\nShow 7:30pm \n$12 in advance\, $15 at the door
URL:https://asburyparkchamber.com/event/the-vibrotones-verbatim-fire-in-the-annex-at-the-wonder-bar/
LOCATION:Wonder Bar\, 1213 Ocean Ave\, Asbury Park\, 07712
CATEGORIES:Music
ATTACH;FMTTYPE=image/jpeg:https://asburyparkchamber.com/wp-content/uploads/2025/10/Vibrotones-2025.jpg
END:VEVENT
BEGIN:VEVENT
DTSTART;TZID=America/New_York:20251018T080000
DTEND;TZID=America/New_York:20251018T130000
DTSTAMP:20260421T182425
CREATED:20250814T165206Z
LAST-MODIFIED:20250814T165206Z
UID:10005799-1760774400-1760792400@asburyparkchamber.com
SUMMARY:AP Sunset Farmer's Market
DESCRIPTION:Farmer’s Market: 4 Farm stands\, pickles\, honey\, breads Italian cheeses\, pastries and other specialty vendors. \nLocation: \nFireman’s Park – Sunset Ave and Main Street\, Asbury Park\, NJ 07712
URL:https://asburyparkchamber.com/event/ap-sunset-farmers-market/2025-10-18/
LOCATION:Fireman’s Park\, Main St. and Sunset Ave.\, Asbury Park\, 07712
CATEGORIES:Family
ATTACH;FMTTYPE=image/jpeg:https://asburyparkchamber.com/wp-content/uploads/2025/08/515497190_1255664096348663_4143454345591754815_n.jpg
END:VEVENT
BEGIN:VEVENT
DTSTART;TZID=America/New_York:20251018T110000
DTEND;TZID=America/New_York:20251018T140000
DTSTAMP:20260421T182425
CREATED:20250911T192444Z
LAST-MODIFIED:20250912T142338Z
UID:10005854-1760785200-1760796000@asburyparkchamber.com
SUMMARY:Community Food Connection
DESCRIPTION:Free NJ naturally grown produce from Fernbrook Farms available in the Junior Room 11am – 2pm on the following Saturdays: \nSeptember 20\nOctober 4\nOctober 18\nNovember 8\nNovember 22 \nEach share includes a mix of fresh seasonal vegetables and recipe ideas to help you enjoy your harvest! \nOnly 15 shares are available each Saturday.
URL:https://asburyparkchamber.com/event/community-food-connection/2025-10-18/
LOCATION:Asbury Park Public Library\, 500 1st Ave.\, Asbury Park\, 07712
CATEGORIES:Family
ATTACH;FMTTYPE=image/jpeg:https://asburyparkchamber.com/wp-content/uploads/2025/09/1st-Draft-Community-Food-Connection-.jpg
END:VEVENT
BEGIN:VEVENT
DTSTART;TZID=America/New_York:20251018T120000
DTEND;TZID=America/New_York:20251018T170000
DTSTAMP:20260421T182425
CREATED:20251014T191238Z
LAST-MODIFIED:20251014T191502Z
UID:10006287-1760788800-1760806800@asburyparkchamber.com
SUMMARY:Asbury Park Vintage Market 💽📸👔
DESCRIPTION:The Stone Pony Summer Stage in Asbury Park will host its first Asbury Park Vintage Market on Saturday\, October 18th\, from 12pm-5pm.\nThis outdoor event was rescheduled from this weekend due to weather. ☔️ \nShop more than 50 local and visiting vendors featuring vintage clothing from the 1940s-early 2000s\, along with home décor\, vinyl records + more! \nAdmission is free and open to all ages\, with food and drinks available on-site.
URL:https://asburyparkchamber.com/event/asbury-park-vintage-market/
LOCATION:The Stone Pony Summer Stage\, 913 Ocean Ave\, Asbury Park\, NJ\, 07702\, United States
CATEGORIES:Family
ATTACH;FMTTYPE=image/jpeg:https://asburyparkchamber.com/wp-content/uploads/2025/10/IMG_6275.jpg
END:VEVENT
BEGIN:VEVENT
DTSTART;TZID=America/New_York:20251018T140000
DTEND;TZID=America/New_York:20251018T153000
DTSTAMP:20260421T182425
CREATED:20251003T184705Z
LAST-MODIFIED:20251003T184705Z
UID:10006108-1760796000-1760801400@asburyparkchamber.com
SUMMARY:ART Soccer Training at Asbury Park High School ⚽️
DESCRIPTION:Free Youth Soccer Clinics! ⚽️ \nART Soccer Training and Asbury Park School District are offering two free soccer clinics for children born 2015–2019 on Saturday\, October 11\, and Saturday\, October 18\, from 2pm to 3:30pm at Asbury Park High School (1003 Sunset Ave\, Asbury Park\, NJ 07712). Register at https://form.jotform.com/252583552644159.
URL:https://asburyparkchamber.com/event/art-soccer-training-at-asbury-park-high-school-%e2%9a%bd%ef%b8%8f/2025-10-18/
LOCATION:Asbury Park High School\, 1003 Sunset Ave.\, Asbury Park\, 07712
CATEGORIES:Family,Sports
ATTACH;FMTTYPE=image/jpeg:https://asburyparkchamber.com/wp-content/uploads/2025/10/Free-Youth-Soccer-Clinics.jpeg
END:VEVENT
BEGIN:VEVENT
DTSTART;TZID=America/New_York:20251018T160000
DTEND;TZID=America/New_York:20251018T180000
DTSTAMP:20260421T182425
CREATED:20250922T134659Z
LAST-MODIFIED:20251014T191557Z
UID:10005858-1760803200-1760810400@asburyparkchamber.com
SUMMARY:Asbury Park Sunset Bird Walk 🌅🐦‍⬛
DESCRIPTION:Grab your favorite adventure buddy and join us for a sunset bird walk in Asbury Park on Saturday\, October 18 from 4:00 pm – 6:00 pm. We will look out for wading birds\, songbirds\, and anyone else who is in the area. \nBirding is for everyone. All are welcome on our friendly and respectful Beachy Birder Adventures! \n​We will meet at Atlantic Square Park and then head to Sunset Lake. We will walk for about two miles. Please dress for the weather\, wear closed-toe shoes\, bring water\, layers\, snacks\, a hat\, and binoculars if you have them. We have five pairs of 8×25 birding binoculars for you to borrow as needed\, and we will have a spotting scope to look through as well. \nOur outings are rain or shine but in the event of extreme weather we will reschedule for a more enjoyable experience. Let’s get birdy! \nMeet at Atlantic Square Park\n1301 Kingsley St\, Asbury Park\, NJ 07712 \nCost: $25/person (children under 5 are free)\nSpace is limited to 25 to ensure a small group experience.
URL:https://asburyparkchamber.com/event/asbury-park-sunset-bird-walk/
LOCATION:Asbury Park
CATEGORIES:Art & Culture,Family,Networking
ATTACH;FMTTYPE=image/png:https://asburyparkchamber.com/wp-content/uploads/2025/09/Asbury-Park-Sunset-Walk.png
ORGANIZER;CN="Beachy Birder Adventures":MAILTO:lmcnamara921@gmail.com
END:VEVENT
BEGIN:VEVENT
DTSTART;TZID=America/New_York:20251018T190000
DTEND;TZID=America/New_York:20251018T230000
DTSTAMP:20260421T182425
CREATED:20250926T174939Z
LAST-MODIFIED:20250926T174939Z
UID:10005892-1760814000-1760828400@asburyparkchamber.com
SUMMARY:Redhead Redemption Release Show Int’l Superstar Robin\, Dana Why\, Separatr at the Wonder Bar
DESCRIPTION:Redhead Redemption Release Show\nInt’l Superstar Robin\, Dana Why\, Separatr \nDoors 7:00pm\nShow 8:00pm \n21 and up admitted \n$12 advance / $15 day of show (plus applicable surcharges)
URL:https://asburyparkchamber.com/event/redhead-redemption-release-show-intl-superstar-robin-dana-why-separatr-at-the-wonder-bar/
LOCATION:Wonder Bar\, 1213 Ocean Ave\, Asbury Park\, 07712
CATEGORIES:Music
ATTACH;FMTTYPE=image/jpeg:https://asburyparkchamber.com/wp-content/uploads/2025/09/redhead-updated.jpg
END:VEVENT
BEGIN:VEVENT
DTSTART;TZID=America/New_York:20251018T210000
DTEND;TZID=America/New_York:20251018T233000
DTSTAMP:20260421T182425
CREATED:20250925T163706Z
LAST-MODIFIED:20250925T163706Z
UID:10005881-1760821200-1760830200@asburyparkchamber.com
SUMMARY:EMO Night Brooklyn at The Stone Pony
DESCRIPTION:Emo Night Brooklyn\nfeaturing Cruella Morgan B2B Jake Karamol \nWelcome to Emo Night Brooklyn\, a late night DJ based dance party blasting the best emo and pop punk jams. We may even invite some of your favorite artists and bands to surprise you and join the party. Get ready to scream your lungs out\, mosh\, and dance to all your favorite songs with all of your favorite people and experience the awesomeness that is Emo Night Brooklyn. \nTickets: $17 & up in advance plus applicable surcharges\, $23 at the door\nDoors at 9 pm\, show time 10 pm \n21+ admitted
URL:https://asburyparkchamber.com/event/emo-night-brooklyn-at-the-stone-pony-3/
LOCATION:The Stone Pony
CATEGORIES:Music
ATTACH;FMTTYPE=image/jpeg:https://asburyparkchamber.com/wp-content/uploads/2025/09/ENB9680-Sat18Oct25-Asbury-Park-The-Stone-Pony-1920x1080-1.jpg
END:VEVENT
END:VCALENDAR