BEGIN:VCALENDAR
VERSION:2.0
PRODID:-//Asbury Park Chamber of Commerce - ECPv6.15.18//NONSGML v1.0//EN
CALSCALE:GREGORIAN
METHOD:PUBLISH
X-ORIGINAL-URL:https://asburyparkchamber.com
X-WR-CALDESC:Events for Asbury Park Chamber of Commerce
REFRESH-INTERVAL;VALUE=DURATION:PT1H
X-Robots-Tag:noindex
X-PUBLISHED-TTL:PT1H
BEGIN:VTIMEZONE
TZID:America/New_York
BEGIN:DAYLIGHT
TZOFFSETFROM:-0500
TZOFFSETTO:-0400
TZNAME:EDT
DTSTART:20250309T070000
END:DAYLIGHT
BEGIN:STANDARD
TZOFFSETFROM:-0400
TZOFFSETTO:-0500
TZNAME:EST
DTSTART:20251102T060000
END:STANDARD
BEGIN:DAYLIGHT
TZOFFSETFROM:-0500
TZOFFSETTO:-0400
TZNAME:EDT
DTSTART:20260308T070000
END:DAYLIGHT
BEGIN:STANDARD
TZOFFSETFROM:-0400
TZOFFSETTO:-0500
TZNAME:EST
DTSTART:20261101T060000
END:STANDARD
BEGIN:DAYLIGHT
TZOFFSETFROM:-0500
TZOFFSETTO:-0400
TZNAME:EDT
DTSTART:20270314T070000
END:DAYLIGHT
BEGIN:STANDARD
TZOFFSETFROM:-0400
TZOFFSETTO:-0500
TZNAME:EST
DTSTART:20271107T060000
END:STANDARD
END:VTIMEZONE
BEGIN:VEVENT
DTSTART;TZID=America/New_York:20260208T183000
DTEND;TZID=America/New_York:20260208T230000
DTSTAMP:20260419T234527
CREATED:20260112T203528Z
LAST-MODIFIED:20260112T203528Z
UID:10007043-1770575400-1770591600@asburyparkchamber.com
SUMMARY:🏈 SUPER BOWL SUNDAY!!! 🏈
DESCRIPTION:Kickoff Time 6:30 pm
URL:https://asburyparkchamber.com/event/%f0%9f%8f%88-super-bowl-sunday-%f0%9f%8f%88/
LOCATION:Asbury Park
CATEGORIES:Sports
ORGANIZER;CN="Asbury Park Chamber":MAILTO:info@asburyparkchamber.com
END:VEVENT
BEGIN:VEVENT
DTSTART;TZID=America/New_York:20260208T190000
DTEND;TZID=America/New_York:20260208T213000
DTSTAMP:20260419T234527
CREATED:20260114T162925Z
LAST-MODIFIED:20260114T162925Z
UID:10007048-1770577200-1770586200@asburyparkchamber.com
SUMMARY:🎷 Swinging Sundays: Jazz Night at the Asbury Hotel 🎷
DESCRIPTION:Step into the groom at Swinging Sundays\, our weekly jazz night at Soundbooth. Sip\, sway\, and soak up the soulful sounds of live jazz as we bring timeless style and rhythm to The Asbury. Whether you’re winding down your weekend or keeping the night alive\, this is your Sunday soundtrack. \nEvery Sunday | 7PM – 10PM | The Asbury Lobby 🎶
URL:https://asburyparkchamber.com/event/%f0%9f%8e%b7-swinging-sundays-jazz-night-at-the-asbury-hotel-%f0%9f%8e%b7/2026-02-08/
LOCATION:The Asbury Hotel\, 210 5th Ave\, Asbury Park\, NJ\, 07712\, United States
CATEGORIES:Music
ATTACH;FMTTYPE=image/jpeg:https://asburyparkchamber.com/wp-content/uploads/2026/01/609220701_18091442189064869_2285680896564989537_n.jpg
ORGANIZER;CN="The Asbury Hotel":MAILTO:theasburyhotel@stayasburypark.com
END:VEVENT
BEGIN:VEVENT
DTSTART;TZID=America/New_York:20260209T150000
DTEND;TZID=America/New_York:20260209T170000
DTSTAMP:20260419T234528
CREATED:20260109T155615Z
LAST-MODIFIED:20260109T155615Z
UID:10006900-1770649200-1770656400@asburyparkchamber.com
SUMMARY:Self Care with Art Workshops at the Center in Asbury 👨🏾‍🎨
DESCRIPTION:ART with Nelson. Part of Mind Body Spirit\, this workshop focuses on expression. All materials provided. \nFree and open to everyone in the community! \nMonday & Wednesday from 3-5 pm.  \nMeet at The Center\, 806 Third Ave entrance.
URL:https://asburyparkchamber.com/event/self-care-with-art-workshops-at-the-center-in-asbury-%f0%9f%91%a8%f0%9f%8f%be%f0%9f%8e%a8/2026-02-09/
LOCATION:The Center\, 806 3rd Ave\, Asbury Park
CATEGORIES:Art & Culture
ATTACH;FMTTYPE=image/png:https://asburyparkchamber.com/wp-content/uploads/2026/01/8af527_7fa72a0d6bd94b7f8af8868b31135e31mv2.png
ORGANIZER;CN="The Center":MAILTO:mail@thecenterinap.com
END:VEVENT
BEGIN:VEVENT
DTSTART;TZID=America/New_York:20260210T180000
DTEND;TZID=America/New_York:20260210T193000
DTSTAMP:20260419T234528
CREATED:20260114T162953Z
LAST-MODIFIED:20260114T162953Z
UID:10007056-1770746400-1770751800@asburyparkchamber.com
SUMMARY:💐 Galentine's Day Floral Arrangement Workshop at the Asbury Hotel 💝
DESCRIPTION:Galentine’s Floral Arrangement Workshop by Amber & Earth\nDate: Tuesday\, February 10th\nTime: 6pm – 7:30pm\nLocation: The Asbury Hotel – Asbury Park\, NJ \nKick off the new year by gathering your favorite people and celebrating friendship\, creativity\, and flowers. Our Galentine’s Floral Arranging Workshops are a hands-on\, joy-filled experience designed to inspire connection and creativity in a relaxed\, welcoming setting. \nDuring this workshop\, you’ll learn a professional’s signature approach to floral design—focusing on movement\, texture\, and natural beauty—while creating a lush\, seasonal arrangement to take home. Whether you come with friends or arrive solo\, you’ll leave feeling inspired\, confident\, and creatively refreshed.\nPerfect for a girls’ night out\, a meaningful experience gift\, or simply a reason to slow down and do something beautiful for yourself. \nWhat’s included:\nAll premium seasonal florals and materials\nStep-by-step instruction in a relaxed\, supportive environment\nDesign tips you can use again at home\nA finished arrangement you’ll be proud to display\nNo prior floral experience needed—just come ready to create\, connect\, and celebrate. \nBring your gal pal\, BFF\, Valentine or anyone else you love and we will see you there!
URL:https://asburyparkchamber.com/event/%f0%9f%92%90-galentines-day-floral-arrangement-workshop-at-the-asbury-hotel-%f0%9f%92%9d/
LOCATION:The Asbury Hotel\, 210 5th Ave\, Asbury Park\, NJ\, 07712\, United States
CATEGORIES:Party
ATTACH;FMTTYPE=image/jpeg:https://asburyparkchamber.com/wp-content/uploads/2026/01/tempImageKm3yF7.jpg
ORGANIZER;CN="The Asbury Hotel":MAILTO:theasburyhotel@stayasburypark.com
END:VEVENT
BEGIN:VEVENT
DTSTART;TZID=America/New_York:20260210T193000
DTEND;TZID=America/New_York:20260210T213000
DTSTAMP:20260419T234528
CREATED:20260130T205432Z
LAST-MODIFIED:20260130T205432Z
UID:10007147-1770751800-1770759000@asburyparkchamber.com
SUMMARY:🌸🌻 Flowers & Cards Workshop at Johnny Mac House of Spirits 🌺🌼
DESCRIPTION:Join us for a romantic and creative night at Johnny Mac House of Spirits with our Flowers & Cards Workshop 🌸💌\nCome as a couple\, with your best friend\, or treat yourself to a solo night out. This hands-on workshop includes a guided floral arrangement class where you’ll learn how to design a beautiful arrangement for someone special — or for yourself. We’ll cover techniques like reflexing flower petals and floral composition so your arrangement looks full\, intentional\, and professional.\nOur second station is all about crafting: you’ll have access to a full arts & crafts setup to create a homemade Valentine’s Day card. All supplies are included — fresh florals\, vessels\, ribbon\, scissors\, and everything you need to bring your vision to life.\n📅 Tuesday\, February 10th\n🕢 7:30 PM\n⚠️ Limited spots available — Don’t wait till last minute to register!\nTo reserve your spot: Venmo $40 @urtem with your name + “Vday workshop.”\nWe always have free pizza\, and cocktails will be available for purchase. Come make something beautiful\, share a night of creativity\, and leave with handmade gifts and great memories.
URL:https://asburyparkchamber.com/event/%f0%9f%8c%b8%f0%9f%8c%bb-flowers-cards-workshop-at-johnny-mac-house-of-spirits-%f0%9f%8c%ba%f0%9f%8c%bc/
LOCATION:Johnny Mac’s House of Spirits\, 208 Main Street\, Asbury Park\, 07712
CATEGORIES:Event,Music,Party
ATTACH;FMTTYPE=image/jpeg:https://asburyparkchamber.com/wp-content/uploads/2026/01/624067098_18562369189052246_3515778066508733223_n-e1769806466499.jpg
END:VEVENT
BEGIN:VEVENT
DTSTART;TZID=America/New_York:20260211T150000
DTEND;TZID=America/New_York:20260211T170000
DTSTAMP:20260419T234528
CREATED:20260109T155615Z
LAST-MODIFIED:20260109T155615Z
UID:10006901-1770822000-1770829200@asburyparkchamber.com
SUMMARY:Self Care with Art Workshops at the Center in Asbury 👨🏾‍🎨
DESCRIPTION:ART with Nelson. Part of Mind Body Spirit\, this workshop focuses on expression. All materials provided. \nFree and open to everyone in the community! \nMonday & Wednesday from 3-5 pm.  \nMeet at The Center\, 806 Third Ave entrance.
URL:https://asburyparkchamber.com/event/self-care-with-art-workshops-at-the-center-in-asbury-%f0%9f%91%a8%f0%9f%8f%be%f0%9f%8e%a8/2026-02-11/
LOCATION:The Center\, 806 3rd Ave\, Asbury Park
CATEGORIES:Art & Culture
ATTACH;FMTTYPE=image/png:https://asburyparkchamber.com/wp-content/uploads/2026/01/8af527_7fa72a0d6bd94b7f8af8868b31135e31mv2.png
ORGANIZER;CN="The Center":MAILTO:mail@thecenterinap.com
END:VEVENT
BEGIN:VEVENT
DTSTART;TZID=America/New_York:20260211T190000
DTEND;TZID=America/New_York:20260211T210000
DTSTAMP:20260419T234528
CREATED:20260106T191356Z
LAST-MODIFIED:20260106T191356Z
UID:10006846-1770836400-1770843600@asburyparkchamber.com
SUMMARY:Georgies 2026 Karaoke Idol Contest! 🎤🎶🧑🏽‍🎤
DESCRIPTION:Hosted by DJ Ted D’Bierre! \n– AUDITIONS EVERY WEDNESDAY JANUARY 7TH-JANUARY 28TH!\n– 5 Performers Accepted Each Week!\n– Re-Auditions Allowed as long as auditions are still being held! \nCONTEST DATES: Feb. 4th-April 29th!\n$800 CA$H Grand Prize!\n1st\, 2nd\, & 3rd Place Prizes!
URL:https://asburyparkchamber.com/event/georgies-2026-karaoke-idol-contest-%f0%9f%8e%a4%f0%9f%8e%b6%f0%9f%a7%91%f0%9f%8f%bd%f0%9f%8e%a4/2026-02-11/
LOCATION:Georgie’s Bar\, 812 5th Avenue\, Asbury Park\, 07712
CATEGORIES:Music
ATTACH;FMTTYPE=image/jpeg:https://asburyparkchamber.com/wp-content/uploads/2026/01/611652813_1463474305317451_4659878824079488279_n-e1767726926963.jpg
END:VEVENT
BEGIN:VEVENT
DTSTART;TZID=America/New_York:20260211T190000
DTEND;TZID=America/New_York:20260211T210000
DTSTAMP:20260419T234528
CREATED:20260112T161856Z
LAST-MODIFIED:20260112T162022Z
UID:10007035-1770836400-1770843600@asburyparkchamber.com
SUMMARY:🏳️‍🌈 Rainbow Quest presents GAYME NIGHT! 🏳️‍🌈
DESCRIPTION:Monmouth County Habitat for Humanity Restore is hosting GAYME NIGHT on the 2nd Wednesday of every month\, starting January and ending in June.\nAll are welcome! \n$20 suggested donation is recommended. \nFor more information\, please visit RainbowQuest.org
URL:https://asburyparkchamber.com/event/%f0%9f%8f%b3%ef%b8%8f%f0%9f%8c%88-rainbow-quest-presents-gayme-night-%f0%9f%8f%b3%ef%b8%8f%f0%9f%8c%88/2026-02-11/
LOCATION:Coastal Habitat for Humanity ReStore\, 1105 Memorial Dr.\, Asbury Park\, NJ\, 07712\, United States
CATEGORIES:Fundraiser,Networking,Party
ATTACH;FMTTYPE=image/jpeg:https://asburyparkchamber.com/wp-content/uploads/2026/01/Revised-Habitat-Game-Night-2026-e1768234812590.jpg
ORGANIZER;CN="Rainbow Quest":MAILTO:info@rainbowquest.org
END:VEVENT
BEGIN:VEVENT
DTSTART;TZID=America/New_York:20260212T160000
DTEND;TZID=America/New_York:20260212T190000
DTSTAMP:20260419T234528
CREATED:20260209T144953Z
LAST-MODIFIED:20260209T144953Z
UID:10007239-1770912000-1770922800@asburyparkchamber.com
SUMMARY:Lakehouse Music Academy Open House
DESCRIPTION:Join the Lakehouse team for behind-the-scenes tours and get an exclusive look into our programs. Dive headfirst into the process with hands-on demos led by our seasoned pros\, and enjoy local complimentary bites and beverages. \nConnect with fellow musicians\, share stories\, and find your community. It’s more than an open house; it’s an opportunity to ignite your passion for music in a community that speaks your language.
URL:https://asburyparkchamber.com/event/lakehouse-music-academy-open-house/
LOCATION:Lakehouse Music Academy\, 619 Lake Avenue\, Asbury Park\, 07712
CATEGORIES:Music
ATTACH;FMTTYPE=image/png:https://asburyparkchamber.com/wp-content/uploads/2026/02/1.png
ORGANIZER;CN="Lakehouse Music Academy":MAILTO:info@lakehousemusicacademy.com
END:VEVENT
BEGIN:VEVENT
DTSTART;TZID=America/New_York:20260212T180000
DTEND;TZID=America/New_York:20260212T200000
DTSTAMP:20260419T234528
CREATED:20260114T164111Z
LAST-MODIFIED:20260114T164139Z
UID:10007057-1770919200-1770926400@asburyparkchamber.com
SUMMARY:🎨 Boozy Brushes – Perfume Bottles and Scent 🌺
DESCRIPTION:Join us February 12th and 26th from 6–8 PM at The Asbury Hotel for a one-of-a-kind creative night out! 🎨🌸You’ll create your own custom scent first\, then hand-paint a glass perfume bottle to match your vibe. \nNo experience needed — we’ll provide all supplies & inspiration! Just come ready to create\, sip\, and have fun!Perfect for a girls’ night\, date night\, or a creative treat for yourself. We can’t wait to paint and blend with you! ✨ \nFood & drinks available for purchase (this is not BYOB)🚫 No refunds
URL:https://asburyparkchamber.com/event/%f0%9f%8e%a8-boozy-brushes-perfume-bottles-and-scent-%f0%9f%8c%ba/2026-02-12/
LOCATION:The Asbury Hotel\, 210 5th Ave\, Asbury Park\, NJ\, 07712\, United States
CATEGORIES:Party
ATTACH;FMTTYPE=image/jpeg:https://asburyparkchamber.com/wp-content/uploads/2026/01/tempImageD4jnuk.jpg
ORGANIZER;CN="The Asbury Hotel":MAILTO:theasburyhotel@stayasburypark.com
END:VEVENT
BEGIN:VEVENT
DTSTART;TZID=America/New_York:20260213T120000
DTEND;TZID=America/New_York:20260213T133000
DTSTAMP:20260419T234528
CREATED:20260202T204642Z
LAST-MODIFIED:20260202T204642Z
UID:10007153-1770984000-1770989400@asburyparkchamber.com
SUMMARY:🧘🏻‍♀️ Yoga with Love - Valentine's Student Appreciation Day! ❤️
DESCRIPTION:In celebration of Valentine’s day we wanted to do something to celebrate our students! Friday\, February 13th 12:00 – 1:30pm! \nFree Offerings: Mini Reiki Sessions with Claudine – Reiki Master – Yoga with Love Mini Tarot readings with Amy – Cosmic Caravan 😉 Mini Spinal Flow session with Gina – Sacred Surf Spinal Flow Chair Massage with Maria Friedman – Stronger by Touch We also have a few vendors with some lovely products and services to purchase Crosta Madre Bakery – Sourdough Bread and Bakery items Astrology Readings with Lindsay – OMG Tarot! Grateful Alchemy – Teas and specialty items Cosmic Caravan – Book – Life’s on Fire
URL:https://asburyparkchamber.com/event/%f0%9f%a7%98%f0%9f%8f%bb%e2%99%80%ef%b8%8f-yoga-with-love-valentines-student-appreciation-day-%e2%9d%a4%ef%b8%8f/
LOCATION:Yoga With Love\, 417 Euclid Ave\, Loch Arbour\, NJ\, 07711\, United States
CATEGORIES:Event
ORGANIZER;CN="Claudine Fenniman":MAILTO:claudine@yogawithlovenj.com
END:VEVENT
BEGIN:VEVENT
DTSTART;TZID=America/New_York:20260213T150000
DTEND;TZID=America/New_York:20260213T180000
DTSTAMP:20260419T234528
CREATED:20260211T154113Z
LAST-MODIFIED:20260211T154113Z
UID:10007255-1770994800-1771005600@asburyparkchamber.com
SUMMARY:Apéro Hour at Pascal & Sabine 🍹🎈
DESCRIPTION:Saturdays with Chris Spirito. Light bites and bubbles + weekly specials! \n*** takes place on Friday\, February 13th so the restaurant can celebrate Valentine’s Day on the 14th!
URL:https://asburyparkchamber.com/event/apero-hour-at-pascal-sabine-%f0%9f%8d%b9%f0%9f%8e%88-2/2026-02-13/
LOCATION:Pascal and Sabine
CATEGORIES:Music
ATTACH;FMTTYPE=image/jpeg:https://asburyparkchamber.com/wp-content/uploads/2025/11/tempImage4Yxo9k-scaled.jpg
ORGANIZER;CN="Pascal and Sabine":MAILTO:info@pascalandsabine.com
END:VEVENT
BEGIN:VEVENT
DTSTART;TZID=America/New_York:20260213T160000
DTEND;TZID=America/New_York:20260213T210000
DTSTAMP:20260419T234528
CREATED:20260204T144800Z
LAST-MODIFIED:20260209T200207Z
UID:10007159-1770998400-1771016400@asburyparkchamber.com
SUMMARY:📖 Wolfe & Kron Bookstore Reopening! 📖
DESCRIPTION:Wolfe & Kron Books returns from hibernation 2/13/26!\nREOPENING 4pm-9pm\n– The first 100 Customers will get a gift just for coming by\n– Donate $10 to Jersey Shore Immigrant Support Coalition and GET A PRIZE! (shhh… it’s a book…)
URL:https://asburyparkchamber.com/event/%f0%9f%93%96-wolfe-kron-bookstore-reopening-%f0%9f%93%96/
LOCATION:Wolfe & Kron Bookstore\, 808 1/2 5th Avenue\, Asbury Park\, 07712
CATEGORIES:Books and Reading
ATTACH;FMTTYPE=image/jpeg:https://asburyparkchamber.com/wp-content/uploads/2026/02/627687670_811437821949861_7940401703805787435_n-e1770667320576.jpg
END:VEVENT
BEGIN:VEVENT
DTSTART;TZID=America/New_York:20260213T170000
DTEND;TZID=America/New_York:20260213T193000
DTSTAMP:20260419T234528
CREATED:20260209T163341Z
LAST-MODIFIED:20260209T163402Z
UID:10007242-1771002000-1771011000@asburyparkchamber.com
SUMMARY:🎥 Movies by the Sea 🌊: "Home" at the Showroom Cinema 🍿
DESCRIPTION:Movies by the Sea is back with “Home” on Friday\, February 13th\, 2026\, at the ShowRoom Cinema\, 707 Cookman Avenue. Showtime is 5pm. Admission is free and includes popcorn and one drink. Tickets are limited and available at 732-502-5753. Free municipal parking available.
URL:https://asburyparkchamber.com/event/%f0%9f%8e%a5-movies-by-the-sea-%f0%9f%8c%8a-home-at-the-showroom-cinema-%f0%9f%8d%bf/
LOCATION:Showroom Cinema\, 707 Cookman ave\, Asbury Park\, NJ
CATEGORIES:Family
ATTACH;FMTTYPE=image/jpeg:https://asburyparkchamber.com/wp-content/uploads/2026/02/Movies-HOME-5x7-V2-soc-media-e1770654810697.jpg
END:VEVENT
BEGIN:VEVENT
DTSTART;TZID=America/New_York:20260213T183000
DTEND;TZID=America/New_York:20260213T230000
DTSTAMP:20260419T234528
CREATED:20260109T173227Z
LAST-MODIFIED:20260109T173227Z
UID:10007020-1771007400-1771023600@asburyparkchamber.com
SUMMARY:Stray Cats Burlesque at the Asbury Lanes 😻
DESCRIPTION:Stray Cats Burlesque Present: Love and Other Crimes at the Asbury Lanes. \nFeaturing music by:\nOcean Avenue Swingers\nVirginia Cavaliere\nHoneybree \nTickets on Sale now!\nDoors open 6:30 pm \n21+ admitted
URL:https://asburyparkchamber.com/event/stray-cats-burlesque-at-the-asbury-lanes-%f0%9f%98%bb/
LOCATION:Asbury Lanes\, 209 4th Avenue\, Asbury Park\, 07712
CATEGORIES:Music
ATTACH;FMTTYPE=image/jpeg:https://asburyparkchamber.com/wp-content/uploads/2026/01/tempImagestQENn.jpg
ORGANIZER;CN="Asbury Lanes":MAILTO:boxoffice@stayasburypark.com
END:VEVENT
BEGIN:VEVENT
DTSTART;TZID=America/New_York:20260213T190000
DTEND;TZID=America/New_York:20260213T233000
DTSTAMP:20260419T234528
CREATED:20251211T171105Z
LAST-MODIFIED:20251211T171105Z
UID:10006799-1771009200-1771025400@asburyparkchamber.com
SUMMARY:💌 💝 Splintered Sunlight Grateful Date Night at the Stone Pony 💝 💌
DESCRIPTION:SPLINTERED SUNLIGHT\nGrateful Date Night Valentines Show \nSplintered Sunlight’s Grateful Dead Tribute returns for Grateful Date Night\, a special Valentines show. Grab your partner and your dancing shoes for what’s going to be a memorable night at the Pony. Come see why Splintered has been rocking the Pony for 30 years. Always a great time at the Pony with two sets of Dead tunes you know and love. Don’t forget your dancing shoes! \nDoor 7:00pm\nShow 7:30 to 11:30pm
URL:https://asburyparkchamber.com/event/%f0%9f%92%8c-%f0%9f%92%9d-splintered-sunlight-grateful-date-night-at-the-stone-pony-%f0%9f%92%9d-%f0%9f%92%8c/
LOCATION:The Stone Pony
CATEGORIES:Music
ATTACH;FMTTYPE=image/jpeg:https://asburyparkchamber.com/wp-content/uploads/2025/12/splint-for-mar25dead-art-banner.jpg
END:VEVENT
BEGIN:VEVENT
DTSTART;TZID=America/New_York:20260213T200000
DTEND;TZID=America/New_York:20260213T233000
DTSTAMP:20260419T234528
CREATED:20260108T191904Z
LAST-MODIFIED:20260108T191904Z
UID:10006875-1771012800-1771025400@asburyparkchamber.com
SUMMARY:The Nerds at the Wonder Bar 🤓💗
DESCRIPTION:The legendary Nerds\, the Kings of the Party\, return to the Wonder Bar. From the Jersey Shore to Carnegie Hall\, they have rocked them all! Always a memorable night with two sets of Nerdy fun.\nEarly showtime 8:00pm. \n21 and up admitted \n$20 ADVANCE/$25 DAY OF SHOW (plus applicable service charges)
URL:https://asburyparkchamber.com/event/the-nerds-at-the-wonder-bar-%f0%9f%a4%93%f0%9f%92%97/
LOCATION:Wonder Bar\, 1213 Ocean Ave\, Asbury Park\, 07712
CATEGORIES:Music
ATTACH;FMTTYPE=image/jpeg:https://asburyparkchamber.com/wp-content/uploads/2026/01/tempImaged8JBkq.jpg
END:VEVENT
BEGIN:VEVENT
DTSTART;TZID=America/New_York:20260214T063000
DTEND;TZID=America/New_York:20260214T220000
DTSTAMP:20260419T234528
CREATED:20260212T175405Z
LAST-MODIFIED:20260212T175405Z
UID:10007310-1771050600-1771106400@asburyparkchamber.com
SUMMARY:❤️‍🩹 9th Annual Anti-Valentine's Day Songwriting Contest at the Asbury Hotel ❤️‍🩹
DESCRIPTION:Come join us on Valentine’s Day for a really fun show at The Soundbooth at The Asbury Hotel!  Free show! \nThis is the 2026 Anti-Valentine’s Day Songwriting Contest show presented by Megan O’Shea. The Wag will be performing with other great acts! Be sure to check them out!
URL:https://asburyparkchamber.com/event/%e2%9d%a4%ef%b8%8f%f0%9f%a9%b9-9th-annual-anti-valentines-day-songwriting-contest-at-the-asbury-hotel-%e2%9d%a4%ef%b8%8f%f0%9f%a9%b9/
LOCATION:The Asbury Hotel\, 210 5th Ave\, Asbury Park\, NJ\, 07712\, United States
CATEGORIES:Music
ATTACH;FMTTYPE=image/jpeg:https://asburyparkchamber.com/wp-content/uploads/2026/02/630496738_1565157138949067_1730815749851307980_n.jpg
ORGANIZER;CN="The Asbury Hotel":MAILTO:theasburyhotel@stayasburypark.com
END:VEVENT
BEGIN:VEVENT
DTSTART;TZID=America/New_York:20260214T120000
DTEND;TZID=America/New_York:20260214T170000
DTSTAMP:20260419T234528
CREATED:20260120T165415Z
LAST-MODIFIED:20260120T165415Z
UID:10007112-1771070400-1771088400@asburyparkchamber.com
SUMMARY:🌹💝 Asbury Park Valentine's Bazaar! 💖🌺
DESCRIPTION:💘 Love is in the air at the Asbury Park Valentine’s Bazaar! 💘 \nJoin us Valentine’s Weekend\, Saturday & Sunday\, Feb 14 & 15\, 2026 from 12–5PM\n📍 Grand Arcade at Convention Hall\, Asbury Park \n✨ Shop local makers\n🌸 Fresh flower bouquet bar\n📸 Valentine’s photo wall\n🎶 Live music\n🍴 Delicious food & drinks\n🎨 Kids activities\n🐾 Pet-friendly\n🎟 FREE & all-ages \nCelebrate love in all its forms while supporting local artists\, creatives\, and small businesses.
URL:https://asburyparkchamber.com/event/%f0%9f%8c%b9%f0%9f%92%9d-asbury-park-valentines-bazaar-%f0%9f%92%96%f0%9f%8c%ba/2026-02-14/
LOCATION:The Grand Arcade of Asbury Park Convention Hall
CATEGORIES:Family
ATTACH;FMTTYPE=image/jpeg:https://asburyparkchamber.com/wp-content/uploads/2026/01/611765937_18562449118026546_855367398397589039_n-e1768928031165.jpg
ORGANIZER;CN="Asbury Park Bazaar":MAILTO:team@asburyparkbazaar.com
END:VEVENT
BEGIN:VEVENT
DTSTART;TZID=America/New_York:20260214T183000
DTEND;TZID=America/New_York:20260214T223000
DTSTAMP:20260419T234528
CREATED:20260108T191954Z
LAST-MODIFIED:20260108T191954Z
UID:10006876-1771093800-1771108200@asburyparkchamber.com
SUMMARY:❣️Vincent Pastore and the Gangster Squad at the Wonder Bar ❣️
DESCRIPTION:This is always a great night of music to share with our friends. Bring your favorite Valentine and join us for a night you will always remember!  \nA portion of proceeds donated to veterans. \nDoors 6:30 PM\nShow 7:30pm \n21 + admitted \n$20 advance/ $25 Day of show (plus applicable surcharges)
URL:https://asburyparkchamber.com/event/%e2%9d%a3%ef%b8%8fvincent-pastore-and-the-gangster-squad-at-the-wonder-bar-%e2%9d%a3%ef%b8%8f/
LOCATION:Wonder Bar\, 1213 Ocean Ave\, Asbury Park\, 07712
CATEGORIES:Music
ATTACH;FMTTYPE=image/jpeg:https://asburyparkchamber.com/wp-content/uploads/2026/01/Pastore-feb.jpg
END:VEVENT
BEGIN:VEVENT
DTSTART;TZID=America/New_York:20260214T200000
DTEND;TZID=America/New_York:20260214T220000
DTSTAMP:20260419T234528
CREATED:20251208T154240Z
LAST-MODIFIED:20251208T154240Z
UID:10006787-1771099200-1771106400@asburyparkchamber.com
SUMMARY:Meredith Marks at Asbury Lanes
DESCRIPTION:Welcome to the iconic Asbury Lanes in Asbury Park\, New Jersey! Get ready to be mesmerized by the incredible talent of Meredith Marks on February 14\, 2026\, at 8:00 PM. Known for her soulful voice and captivating stage presence\, Meredith Marks is sure to deliver a performance that will leave you spellbound. \nAsbury Lanes provides the perfect backdrop for an unforgettable evening of music. The venue’s unique atmosphere and rich history make it a favorite among locals and visitors alike. Located in the heart of Asbury Park\, Asbury Lanes is easily accessible and offers a one-of-a-kind experience that you won’t find anywhere else. \nDon’t miss your chance to witness Meredith Marks live at Asbury Lanes! Grab your tickets now and join us for a night of music\, laughter\, and memories that will last a lifetime. Whether you’re a long-time fan or discovering Meredith Marks for the first time\, this is a show you won’t want to miss. See you there!
URL:https://asburyparkchamber.com/event/meredith-marks-at-asbury-lanes/
LOCATION:Asbury Lanes\, 209 4th Avenue\, Asbury Park\, 07712
CATEGORIES:Music
ATTACH;FMTTYPE=image/jpeg:https://asburyparkchamber.com/wp-content/uploads/2025/12/Meredith-Marks.jpg
END:VEVENT
BEGIN:VEVENT
DTSTART;TZID=America/New_York:20260214T200000
DTEND;TZID=America/New_York:20260214T230000
DTSTAMP:20260419T234528
CREATED:20260108T200756Z
LAST-MODIFIED:20260108T201937Z
UID:10006885-1771099200-1771110000@asburyparkchamber.com
SUMMARY:❤️‍🔥🎤 Jillian McCoy & Michael Vanderweerd's LOVE PARTY! ❤️‍🔥🎤 at McLoone's Supper Club
DESCRIPTION:DOORS OPEN AT 6:30pm\, SHOW START AT 8pm\nGROUP SEATING DOES APPLY \nJillian Rhys McCoy is no stranger to the Supper Club stage\, and she will grace us with her presence once again on Valentine’s Day for the Third Annual LOVE PARTY. This sultry songstress exudes a compelling style and high-spirited stage performance that has grabbed the attention of some of the most influential and mainstream artists. As a featured and supporting vocalist\, Oceanport native\, McCoy\, has shared the stage with musical giants such as; Joan Jett\, Alice Cooper\, Tommy James\, Ben E.King\, Billie Joe Armstrong (Green Day)\, Blondie\, Cheap Trick\, Gary US Bonds\, Darlene Love\, Rob Thomas\, Mike Ness (Social Distortion)\, has also been a member of Jon Bon Jovi’s Kings of Suburbia\, and has worked under the musical direction of Steven Van Zandt\, Bob Bandiera\, and Southside Johnny stacking her resume with not just bits of rock and roll history\, but the rhythmic undertones that have lifted these genres from day one.\nOn this evening\, McCoy is teaming up with veteran guitarist and raspy\, soul singer\, Michael Vanderweerd (Saturday Nite Fever\, David Bryan\, Skinny Amigo). The energetic and magnetic showman’s vocal stylings have been referred to as a mixture of today’s Joe Cocker\, Michael McDonald and Bob Seger\, but is not limited to any one genre or era. Together\, Jillian and Mikey V\, have become recognized as a musical\, power duo.\nJoining them for an evening of classic love and soul songs are Reagan Richards (Williams Honor\, Lisa Loeb\, Glen Burtnik)\, Tom Seguso (Southside Johnny\, Bob Bandiera)\, Ron Haney (The Churchills\, Alicia Keys\, Eddie Testa Band)\, Arne Wendt (Jon Bon Jovi\, Statesboro\, The Smithereens)\, and Doug DeHays (Jon Bon Jovi\, Shakira\, Grace Potter\, Jennifer Nettles). This talented group of pros will be covering hits by artists such as Joe Cocker\, Stevie Ray Vaughan\, Cyndi Lauper\, The Beatles\, Van Morrison\, Donna Summer\, Chris Stapleton\, Fleetwood Mac\, The Rolling Stones\, Marvin Gaye and more. Whether you are planning on having a romantic evening\, or meeting your friends on the dance floor\, this LOVE PARTY will make it a Valentine’s experience you will never forget. \nTHE DANCE FLOOR WILL BE OPEN FOR DANCING!
URL:https://asburyparkchamber.com/event/%e2%9d%a4%ef%b8%8f%f0%9f%94%a5%f0%9f%8e%a4-jillian-mccoy-michael-vanderweerds-love-party-%e2%9d%a4%ef%b8%8f%f0%9f%94%a5%f0%9f%8e%a4/
LOCATION:Tim McLoone’s Supper Club\, 1200 Ocean Ave\, Asbury Park\, 07712
CATEGORIES:Music
ATTACH;FMTTYPE=image/jpeg:https://asburyparkchamber.com/wp-content/uploads/2026/01/Jillian_LoveParty_2026-e1767902867822.jpg
ORGANIZER;CN="Tim McLoone's Supper Club":MAILTO:supperclub@mcloones.com
END:VEVENT
BEGIN:VEVENT
DTSTART;TZID=America/New_York:20260214T210000
DTEND;TZID=America/New_York:20260214T230000
DTSTAMP:20260419T234528
CREATED:20260202T145611Z
LAST-MODIFIED:20260202T145611Z
UID:10007148-1771102800-1771110000@asburyparkchamber.com
SUMMARY:Emo Night Brooklyn
DESCRIPTION:Welcome to Emo Night Brooklyn\, a late-night\, DJ-driven dance party blasting the best emo and pop punk jams that raised us\, ruined us\, and somehow still define us. We’re taking over The Stone Pony in Asbury Park on February 14\, 2026 for a night of screaming every word\, moshing with strangers\, and feeling absolutely everything. \nThis is not a quiet night out. Expect wall-to-wall emo and pop punk anthems\, deep cuts\, and songs you still know by heart even if you pretend you’ve “moved on.” From the tracks that got you through your worst years to the ones that still hit a little too hard\, Emo Night Brooklyn is all about losing your voice\, finding your people\, and reliving the music that made us who we are. And yeah sometimes special guests and your favorite artists even jump in to join the chaos. \nCome ready to scream\, mosh\, dance\, cry in the corner (no judgment)\, and throw yourself into the pit with all your favorite people. Tell the DJs what you want to hear and we promise we listen better than your ex. It’s loud\, it’s emotional\, and it’s the kind of night that reminds you it was never just a phase. \nSo get ready\, Asbury Park. Lace up your boots\, warm up your vocal cords\, and meet us in the pit at The Stone Pony on February 14\, 2026. Emo Night Brooklyn is calling — and yes\, we need every soul.
URL:https://asburyparkchamber.com/event/emo-night-brooklyn-11/
LOCATION:The Stone Pony
CATEGORIES:Dance,Music
ATTACH;FMTTYPE=image/jpeg:https://asburyparkchamber.com/wp-content/uploads/2026/01/Emo-Night-Brooklyn.jpg
ORGANIZER;CN="Emo Night Brooklyn":MAILTO:booking@www.stoneponyonline.com
END:VEVENT
END:VCALENDAR