BEGIN:VCALENDAR
VERSION:2.0
PRODID:-//Asbury Park Chamber of Commerce - ECPv6.15.18//NONSGML v1.0//EN
CALSCALE:GREGORIAN
METHOD:PUBLISH
X-WR-CALNAME:Asbury Park Chamber of Commerce
X-ORIGINAL-URL:https://asburyparkchamber.com
X-WR-CALDESC:Events for Asbury Park Chamber of Commerce
REFRESH-INTERVAL;VALUE=DURATION:PT1H
X-Robots-Tag:noindex
X-PUBLISHED-TTL:PT1H
BEGIN:VTIMEZONE
TZID:America/New_York
BEGIN:DAYLIGHT
TZOFFSETFROM:-0500
TZOFFSETTO:-0400
TZNAME:EDT
DTSTART:20240310T070000
END:DAYLIGHT
BEGIN:STANDARD
TZOFFSETFROM:-0400
TZOFFSETTO:-0500
TZNAME:EST
DTSTART:20241103T060000
END:STANDARD
BEGIN:DAYLIGHT
TZOFFSETFROM:-0500
TZOFFSETTO:-0400
TZNAME:EDT
DTSTART:20250309T070000
END:DAYLIGHT
BEGIN:STANDARD
TZOFFSETFROM:-0400
TZOFFSETTO:-0500
TZNAME:EST
DTSTART:20251102T060000
END:STANDARD
BEGIN:DAYLIGHT
TZOFFSETFROM:-0500
TZOFFSETTO:-0400
TZNAME:EDT
DTSTART:20260308T070000
END:DAYLIGHT
BEGIN:STANDARD
TZOFFSETFROM:-0400
TZOFFSETTO:-0500
TZNAME:EST
DTSTART:20261101T060000
END:STANDARD
END:VTIMEZONE
BEGIN:VEVENT
DTSTART;TZID=America/New_York:20250822T170000
DTEND;TZID=America/New_York:20250822T220000
DTSTAMP:20260425T075845
CREATED:20250813T155343Z
LAST-MODIFIED:20250813T155343Z
UID:10005783-1755882000-1755900000@asburyparkchamber.com
SUMMARY:SUPPORT OUR VETERANS at Max's Bar & Grill
DESCRIPTION:Join us for an inspiring\, FREE EVENT dedicated to raising money and awareness for the Veterans Housing Network Foundation. \nDATE:\nFriday\, August 22nd 5-10pm \nLOCATION:\nMax’s Bar and Grill\n25 Matilda Terrace\, Long Branch \nLive Entertainment 🎸!\nJoe & Janet LaFrangola – 5pm\nLow on Cash – 6pm \nGiveaways!\nFood & Drink Specials! 🍹\n50/50! 💵
URL:https://asburyparkchamber.com/event/support-our-veterans-at-maxs-bar-grill/
LOCATION:Max’s Bar and Grill\, 25 Matilda Terrace\, Long Branch\, 07740
CATEGORIES:Family,Fundraiser,Networking
ATTACH;FMTTYPE=image/jpeg:https://asburyparkchamber.com/wp-content/uploads/2025/08/ADVmax.jpeg
ORGANIZER;CN="Veteran Housing Network Foundation LLC":MAILTO:vhnfbettelli@aol.com
END:VEVENT
END:VCALENDAR