BEGIN:VCALENDAR
VERSION:2.0
PRODID:-//Asbury Park Chamber of Commerce - ECPv6.15.18//NONSGML v1.0//EN
CALSCALE:GREGORIAN
METHOD:PUBLISH
X-WR-CALNAME:Asbury Park Chamber of Commerce
X-ORIGINAL-URL:https://asburyparkchamber.com
X-WR-CALDESC:Events for Asbury Park Chamber of Commerce
REFRESH-INTERVAL;VALUE=DURATION:PT1H
X-Robots-Tag:noindex
X-PUBLISHED-TTL:PT1H
BEGIN:VTIMEZONE
TZID:America/New_York
BEGIN:DAYLIGHT
TZOFFSETFROM:-0500
TZOFFSETTO:-0400
TZNAME:EDT
DTSTART:20210314T070000
END:DAYLIGHT
BEGIN:STANDARD
TZOFFSETFROM:-0400
TZOFFSETTO:-0500
TZNAME:EST
DTSTART:20211107T060000
END:STANDARD
BEGIN:DAYLIGHT
TZOFFSETFROM:-0500
TZOFFSETTO:-0400
TZNAME:EDT
DTSTART:20220313T070000
END:DAYLIGHT
BEGIN:STANDARD
TZOFFSETFROM:-0400
TZOFFSETTO:-0500
TZNAME:EST
DTSTART:20221106T060000
END:STANDARD
BEGIN:DAYLIGHT
TZOFFSETFROM:-0500
TZOFFSETTO:-0400
TZNAME:EDT
DTSTART:20230312T070000
END:DAYLIGHT
BEGIN:STANDARD
TZOFFSETFROM:-0400
TZOFFSETTO:-0500
TZNAME:EST
DTSTART:20231105T060000
END:STANDARD
BEGIN:DAYLIGHT
TZOFFSETFROM:-0500
TZOFFSETTO:-0400
TZNAME:EDT
DTSTART:20240310T070000
END:DAYLIGHT
BEGIN:STANDARD
TZOFFSETFROM:-0400
TZOFFSETTO:-0500
TZNAME:EST
DTSTART:20241103T060000
END:STANDARD
BEGIN:DAYLIGHT
TZOFFSETFROM:-0500
TZOFFSETTO:-0400
TZNAME:EDT
DTSTART:20250309T070000
END:DAYLIGHT
BEGIN:STANDARD
TZOFFSETFROM:-0400
TZOFFSETTO:-0500
TZNAME:EST
DTSTART:20251102T060000
END:STANDARD
BEGIN:DAYLIGHT
TZOFFSETFROM:-0500
TZOFFSETTO:-0400
TZNAME:EDT
DTSTART:20260308T070000
END:DAYLIGHT
BEGIN:STANDARD
TZOFFSETFROM:-0400
TZOFFSETTO:-0500
TZNAME:EST
DTSTART:20261101T060000
END:STANDARD
END:VTIMEZONE
BEGIN:VEVENT
DTSTART;TZID=America/New_York:20250727T103000
DTEND;TZID=America/New_York:20250727T153000
DTSTAMP:20260421T100107
CREATED:20250724T154652Z
LAST-MODIFIED:20250724T155056Z
UID:10005717-1753612200-1753630200@asburyparkchamber.com
SUMMARY:ASBURY PARK'S INAUGURAL CHRISTMAS IN JULY DAY 3!! 🎅🏻🎄
DESCRIPTION:Community Karma is thrilled to partner with the Asbury Park Chamber of Commerce for the inaugural Christmas in July celebration\, Thursday\, July 24 – Sunday\, July 27 —a weekend of festive fun\, community spirit\, and a little holiday magic in the summer sun! \nBecause really\, who wouldn’t want to say hi to Asbury Santa in his off-season and beachwear\, all while supporting two great causes: the Asbury Park Backpack Drive and Holiday Toy Drive? 🎅🌴 \nAll proceeds and donations collected will support underserved families in the greater Asbury Park area through Community Karma’s Backpack and Holiday Toy Drives. \nPlease visit https://www.communitykarma.org/christmas-in-july for Santa’s full weekend schedule!
URL:https://asburyparkchamber.com/event/asbury-parks-inaugural-christmas-in-july-%f0%9f%8e%85%f0%9f%8f%bb/
LOCATION:Convention Hall\, 1300 Ocean Avenue\, Asbury Park\, NJ\, 07712\, United States
CATEGORIES:Family,Fundraiser
ATTACH;FMTTYPE=image/jpeg:https://asburyparkchamber.com/wp-content/uploads/2025/07/Sunday.jpg
ORGANIZER;CN="Asbury Park Chamber":MAILTO:info@asburyparkchamber.com
END:VEVENT
BEGIN:VEVENT
DTSTART;TZID=America/New_York:20250424T190000
DTEND;TZID=America/New_York:20250424T230000
DTSTAMP:20260421T100107
CREATED:20250331T152507Z
LAST-MODIFIED:20250331T152507Z
UID:10004323-1745521200-1745535600@asburyparkchamber.com
SUMMARY:Center a La Carte
DESCRIPTION:Less than a month away Center a La Carte is heating up to be an unforgettable night at the Grand Arcade inside the iconic Convention Hall. We’re beyond excited to spotlight 28 standout local food spots\, each serving up their own mouthwatering flavors in one of Asbury Park’s most legendary spaces. Open bar from 7-10. Raffle baskets in abundance. And of course the 50/50. This is the Center’s biggest fundraiser of the year. 300-500 people come to eat and drink and dance and support the mission of The Center connecting at risk community members to comprehensive healthcare\, safe and supportive housing\, and wellness through education\, collaboration and advocacy \nWe are equally as excited to showcase two of Asbury Park’s most talented entertainment at this years event. DJ Philip James will be energizing our guests with his classic spins to get everyone dancing in between sets of legendary Queen\, Pissi Myles\, as she wows the audience with her glamorous show! \nFor one magical evening\, the entire venue is ours—because “There’s No Place Like Home” right here in the heart of Asbury Park.
URL:https://asburyparkchamber.com/event/center-a-la-carte/
LOCATION:Convention Hall\, 1300 Ocean Avenue\, Asbury Park\, NJ\, 07712\, United States
ATTACH;FMTTYPE=image/png:https://asburyparkchamber.com/wp-content/uploads/2025/03/Screenshot-2025-03-31-at-9.23.05 AM-1.png
ORGANIZER;CN="The Center":MAILTO:mail@thecenterinap.com
END:VEVENT
BEGIN:VEVENT
DTSTART;TZID=America/New_York:20241025T180000
DTEND;TZID=America/New_York:20241025T220000
DTSTAMP:20260421T100107
CREATED:20240814T170421Z
LAST-MODIFIED:20240814T170421Z
UID:10004035-1729879200-1729893600@asburyparkchamber.com
SUMMARY:Halloween Glow Party & Night Market
DESCRIPTION:Asbury Park Night Market presents\nHalloween Glow Party & Night Market\n21+ Foodie + Dancing + Shopping + Glow Party!\nin the Grand Arcade of Convention Hall\nDance Party with DJ Pepeloco \nGet ready to light up the night this Halloween! Join us for our Halloween Glow Party + Night Market\, a dance party and night market experience brought to you by Night Market Asbury Park\, Asbury Park Bazaar and Asbury Park Boardwalk. This 21+ event is all about dancing\, one-of-a-kind street foods and libations\, unique shopping\, photo moments\, fun activities\, and connecting with friends. \nEmbark on an unforgettable journey featuring: \n🌟 Glow Up: Come dressed in your brightest neon and glow-in-the-dark attire. Think glow sticks\, LED accessories\, and anything that shines under blacklight.\n🍔 Food Bazaar: Featuring 5 pop-up food vendors curated to focus on international eats. Indulge in the diverse flavors that capture the spirit of New Jersey’s vibrant gastronomic landscape.\n🛍️ Shopping Delights: Shop til you drop with 12 vendors curated by Asbury Park Bazaar. Immerse yourself in a celebration of makers\, music\, and art as you explore an array of exclusive offerings.\n🎶 Music: Dance party with local favorite DJ Pepeloco.\n🎨Face Paint: Get your face painted in dazzling designs that glow brilliantly under blacklights (facepaint not included with ticket).\n🍹 Bar: Multiple on-site bars.\n🎲 Activities: Challenge friends to cornhole\, strike a pose at our glowing photo activations\, light up the dance floor under the blacklights and so much more \nEvent is 21+ only with no exceptions\nNo re-entry\nNo pets allowed\nNo refunds\nNo outside food or beverage\nTicket does not include food or beverage as those are sold separately\nNo weapons
URL:https://asburyparkchamber.com/event/halloween-glow-party-night-market/
LOCATION:Convention Hall\, 1300 Ocean Avenue\, Asbury Park\, NJ\, 07712\, United States
END:VEVENT
BEGIN:VEVENT
DTSTART;TZID=America/New_York:20240210T120000
DTEND;TZID=America/New_York:20240210T170000
DTSTAMP:20260421T100107
CREATED:20240102T155504Z
LAST-MODIFIED:20240102T155504Z
UID:10003281-1707566400-1707584400@asburyparkchamber.com
SUMMARY:Asbury Park Valentine’s Bazaar
DESCRIPTION:Asbury Park Valentine’s Bazaar 2024 \nSaturday\, February 10\, 2024 | Noon to 5 pm \nShop & Stroll at our Two Locations\nThe Asbury Hotel + Grand Arcade of Convention Hall \nShop incredible local and regional vendors selling goods and gifts hand made with love. Come shop & stroll at both of our pop up locations at The Asbury Hotel and Grand Arcade of Convention Hall! Featuring local vendors\, food & libations\, photo stations\, flower bar\, workshops and more. Bring a date\, family member and friend or celebrate Valentine’s Day with us!
URL:https://asburyparkchamber.com/event/asbury-park-valentines-bazaar/
LOCATION:Convention Hall\, 1300 Ocean Avenue\, Asbury Park\, NJ\, 07712\, United States
END:VEVENT
BEGIN:VEVENT
DTSTART;TZID=America/New_York:20231126T120000
DTEND;TZID=America/New_York:20231126T140000
DTSTAMP:20260421T100107
CREATED:20231117T161758Z
LAST-MODIFIED:20231117T161758Z
UID:10003144-1701000000-1701007200@asburyparkchamber.com
SUMMARY:The Wright Trio
DESCRIPTION:Join The Wright Trio and bring in the Holidays at the Annual Holiday Bazaar.
URL:https://asburyparkchamber.com/event/the-wright-trio/
LOCATION:Convention Hall\, 1300 Ocean Avenue\, Asbury Park\, NJ\, 07712\, United States
END:VEVENT
BEGIN:VEVENT
DTSTART;TZID=America/New_York:20230930T120000
DTEND;TZID=America/New_York:20231001T170000
DTSTAMP:20260421T100107
CREATED:20230727T143200Z
LAST-MODIFIED:20230727T143200Z
UID:10002855-1696075200-1696179600@asburyparkchamber.com
SUMMARY:Asbury Park Fall Bazaar - 10 Year Anniversary Celebration at Convention Hall
DESCRIPTION:Asbury Park Bazaar is excited to announce its upcoming Asbury Park Fall Bazaar ~ 10 Year Anniversary Celebration\, marking a decade of supporting local makers\, music\, and art in the vibrant community of Asbury Park\, NJ! \nThe event will take place at two fabulous locations: Grand Arcade of Convention Hall (Saturday & Sunday\, Sept 30 & Oct 1) and Asbury Lanes (Sat Sept 30) from 12-5 PM. \nSince its launch at Convention Hall ten years ago\, Asbury Park Bazaar has become a beloved event for both residents and visitors alike. With a focus on showcasing the talent and creativity found in the Jersey Shore and beyond\, the Bazaar has created a thriving platform for local makers and artisans to share their unique creations. \nAttendees can expect a one-of-a-kind shopping experience at historic Convention Hall and Asbury Lanes. A curated market of makers will offer an array of gifts and goods\, providing the perfect opportunity to support small businesses and find unique treasures. \nTo commemorate this milestone anniversary\, attendees will also be able to visit our 10 year immersive fall-themed photo station ~ the perfect backdrop for capturing memorable moments! \nThe celebration extends to the whole family\, with a range of activities for all ages including kids face painting and workshops to spark creativity and imagination. \nAsbury Park Bazaar invites attendees to join us to raise a glass to celebrate ten years during an Oktoberfest-themed celebration at Seahorse\, Asbury Oyster Bar & Asbury Lanes. Enjoy delightful food\, libations\, and special giveaways! \nLive music will be a highlight of the event\, with DJ Jay Insult at Asbury Lanes\, music & entertainment at Seahorse\, and Porchfest at the Transparent Clinch Gallery. \nAsbury Park Bazaar’s 10 Year Anniversary Celebration promises to be a weekend filled with fun\, creativity\, and community spirit. Asbury Park locals and visitors alike are encouraged to come and join the festivities at Convention Hall and Asbury Lanes. \nThe events are free and all ages. For more information about the event and updates\, please visit the Asbury Park Bazaar website at www.asburyparkbazaar.com.\n–\nAbout Asbury Park Bazaar: \nAsbury Park Bazaar is a celebration of local makers\, music\, and art. Since its launch ten years ago\, it has become a vibrant platform for showcasing the creativity and talent found in Asbury Park\, the Jersey Shore\, and beyond. With a variety of events and markets\, Asbury Park Bazaar continues to support and promote the local creative community. www.asburyparkbazaar.com
URL:https://asburyparkchamber.com/event/asbury-park-fall-bazaar-10-year-anniversary-celebration-at-convention-hall/
LOCATION:Convention Hall\, 1300 Ocean Avenue\, Asbury Park\, NJ\, 07712\, United States
ORGANIZER;CN="Asbury Park Bazaar":MAILTO:team@asburyparkbazaar.com
END:VEVENT
BEGIN:VEVENT
DTSTART;TZID=America/New_York:20230930T120000
DTEND;TZID=America/New_York:20230930T140000
DTSTAMP:20260421T100107
CREATED:20230918T143910Z
LAST-MODIFIED:20230918T143910Z
UID:10003016-1696075200-1696082400@asburyparkchamber.com
SUMMARY:The Wright Trio @ Asbury Fall Bazaar
DESCRIPTION:Live music by The Wright Trio in the Grand Arcade in Convention Hall for the Annual Fall Bazaar.
URL:https://asburyparkchamber.com/event/the-wright-trio-asbury-fall-bazaar/
LOCATION:Convention Hall\, 1300 Ocean Avenue\, Asbury Park\, NJ\, 07712\, United States
ATTACH;FMTTYPE=image/jpeg:https://asburyparkchamber.com/wp-content/uploads/2023/09/IMG_9643.jpg
END:VEVENT
BEGIN:VEVENT
DTSTART;TZID=America/New_York:20221208T180000
DTEND;TZID=America/New_York:20221209T070000
DTSTAMP:20260421T100107
CREATED:20221205T184518Z
LAST-MODIFIED:20221205T184518Z
UID:10002459-1670522400-1670569200@asburyparkchamber.com
SUMMARY:Homeless Awareness Sleep Out
DESCRIPTION:EmPower Me\, Asbury Park nonprofit\, is raising awareness and funds to help those who are suffering. Let’s come together with cardboard boxes\, sleeping bags\, blankets\, tarps\, tents to experience the challenges that the homeless face. Stay for a short while or all night at Asbury Park Convention Hall. \nSenator Vin Gopal – Guest Speaker \nFor information contact EmPower Me Founder Darlene Tyler – 848-218-5797 \nDonations will be used\, in part to support the homeless and their needs. \nDonations can be made on the website www.empowermenj.org \n 
URL:https://asburyparkchamber.com/event/homeless-awareness-sleep-out/
LOCATION:Convention Hall\, 1300 Ocean Avenue\, Asbury Park\, NJ\, 07712\, United States
ATTACH;FMTTYPE=image/jpeg:https://asburyparkchamber.com/wp-content/uploads/2022/12/12-08-sleep-out.jpg
ORGANIZER;CN="EmPower Me":MAILTO:DTyler1empowerme@gmail.com
END:VEVENT
END:VCALENDAR